BEGIN:VCALENDAR
PRODID:NingEventWidget-v1
VERSION:2.0
METHOD:PUBLISH
BEGIN:VTIMEZONE
TZID:America/Los_Angeles
X-LIC-LOCATION:America/Los_Angeles
BEGIN:DAYLIGHT
TZOFFSETFROM:-0800
TZOFFSETTO:-0700
TZNAME:PDT
DTSTART:19700308T020000
RRULE:FREQ=YEARLY;BYMONTH=3;BYDAY=2SU
END:DAYLIGHT
BEGIN:STANDARD
TZOFFSETFROM:-0700
TZOFFSETTO:-0800
TZNAME:PST
DTSTART:19701101T020000
RRULE:FREQ=YEARLY;BYMONTH=11;BYDAY=1SU
END:STANDARD
END:VTIMEZONE
BEGIN:VEVENT
UID:1464587:Event:155992
DTSTAMP:20260421T195515Z
SUMMARY:RED BULL THRE3STYLE – SAN FRANCISCO QUALIFIER
DESCRIPTION:Red Bull Thre3Style is a DJ contest that will rock the hou
 se all night! Crowd reaction, technique and the art of party rocking a
 re what makes this the new school DJ contest. DJ’s are judged on tra
 ck selection, creativity, mixing skills, stage presence and crowd reac
 tion. Each DJ gets one 15 minute performance where they have to play a
  minimum of 3 genres. Anything goes - from house anthems to old school
  hip hop to Top 40 remixes.\nStarting in January 2013, DJs from San Fr
 ancisco will begin staging one of the battles for the coveted title of
  Red Bull Thre3style National Champion – a title that comes with bra
 gging rights; cash prizes; a stamp of approval from some of the best D
 Js in the world including DJ Jazzy Jeff, Z-Trip and A-Trak; …and a t
 icket to compete in the Red Bull Thre3style World Finals in December.\
 nSan Francisco’s winner will go on to compete in the West Regional f
 inal in Seattle on Feb. 25th! Only one DJ from there will go on to com
 pete nationally in LA in the spring.\nFirst come, first serve. Entranc
 e to event is subject to capacity.Join the conversation on social @Red
 BullSFO | #RB3STYLE\n\nFor more information visit https://trueskool.co
 m/events/red-bull-thre3style-san-francisco-qualifier
DTSTART;TZID=America/Los_Angeles:20130124T200000
DTEND;TZID=America/Los_Angeles:20130125T020000
CATEGORIES:san, francisco, ca
LOCATION:The Independent
WEBSITE:http://www.ticketfly.com/purchase/eventV2/199841?wrKey=01F1588
 9629BBA43E30102866E9E5FFE
URL:http://www.ticketfly.com/purchase/eventV2/199841?wrKey=01F15889629
 BBA43E30102866E9E5FFE
CONTACT:
ORGANIZER;CN=sweeneykovar:https://trueskool.com/profile/sweeneykovar
ATTACH;FMTTYPE="image/jpeg":http://storage.ning.com/topology/rest/1.0/
 file/get/2247931729?profile=original
ATTENDEE;ROLE=REQ-PARTICIPANT;PARTSTAT=ACCEPTED;RSVP=TRUE;CN=sweeneyko
 var:https://trueskool.com/profile/sweeneykovar
END:VEVENT
END:VCALENDAR
