BEGIN:VCALENDAR
PRODID:NingEventWidget-v1
VERSION:2.0
METHOD:PUBLISH
BEGIN:VTIMEZONE
TZID:America/Los_Angeles
X-LIC-LOCATION:America/Los_Angeles
BEGIN:DAYLIGHT
TZOFFSETFROM:-0800
TZOFFSETTO:-0700
TZNAME:PDT
DTSTART:19700308T020000
RRULE:FREQ=YEARLY;BYMONTH=3;BYDAY=2SU
END:DAYLIGHT
BEGIN:STANDARD
TZOFFSETFROM:-0700
TZOFFSETTO:-0800
TZNAME:PST
DTSTART:19701101T020000
RRULE:FREQ=YEARLY;BYMONTH=11;BYDAY=1SU
END:STANDARD
END:VTIMEZONE
BEGIN:VEVENT
UID:1464587:Event:841105
DTSTAMP:20260419T193628Z
SUMMARY:Rebirth Brass Brand
DESCRIPTION:Rebirth Brass Brand\r\nTuesday, Feb 17, 2026 Doors: 7:00PM
  | Show: 8:00PM\r\nThe Chapel 777 Valencia St, San Francisco, CA\n\nFo
 r more information visit https://trueskool.com/events/rebirth-brass-br
 and
DTSTART;TZID=America/Los_Angeles:20260217T200000
DTEND;TZID=America/Los_Angeles:20260217T233000
CATEGORIES:"bay area", oakland, "san francisco", "san jose", berkeley
LOCATION:The Chapel, SF
WEBSITE:https://wl.eventim.us/event/an-evening-with-rebirth-brass-bran
 d/669610?afflky=TheChapel
URL:https://wl.eventim.us/event/an-evening-with-rebirth-brass-brand/66
 9610?afflky=TheChapel
CONTACT:
ORGANIZER;CN="Editor's Pick":https://trueskool.com/profile/RentheVinyl
 Archaeologist
ATTACH;FMTTYPE="image/jpeg":https://storage.ning.com/topology/rest/1.0
 /file/get/31002211853?profile=original
ATTENDEE;ROLE=REQ-PARTICIPANT;PARTSTAT=ACCEPTED;RSVP=TRUE;CN="Editor's
  Pick":https://trueskool.com/profile/RentheVinylArchaeologist
END:VEVENT
END:VCALENDAR
