BEGIN:VCALENDAR
PRODID:NingEventWidget-v1
VERSION:2.0
METHOD:PUBLISH
BEGIN:VTIMEZONE
TZID:America/Los_Angeles
X-LIC-LOCATION:America/Los_Angeles
BEGIN:DAYLIGHT
TZOFFSETFROM:-0800
TZOFFSETTO:-0700
TZNAME:PDT
DTSTART:19700308T020000
RRULE:FREQ=YEARLY;BYMONTH=3;BYDAY=2SU
END:DAYLIGHT
BEGIN:STANDARD
TZOFFSETFROM:-0700
TZOFFSETTO:-0800
TZNAME:PST
DTSTART:19701101T020000
RRULE:FREQ=YEARLY;BYMONTH=11;BYDAY=1SU
END:STANDARD
END:VTIMEZONE
BEGIN:VEVENT
UID:1464587:Event:225209
DTSTAMP:20260421T162758Z
SUMMARY:Rebirth Brass Band (WIN TICKETS)
DESCRIPTION:\n\n\n\n\n\n\n THURSDAY-FRIDAY, AUG 8-9 Rebirth Brass Band
 \nThursday, August 8 7:30pm & 9:30pm $29\nFriday, August 9 8pm & 10pm 
 $29\nYoshi's Oakland 510 Embarcadero West Jack London Square Oakland, 
 CA 94607 Phone: 510.238.9200 >> BUY TICKETS\n\n\nThe Pace Report: \"Tr
 eme's Finest\" The Rebirth Brass Band Interview from Brian Pace on Vim
 eo.\n\nFor more information visit https://trueskool.com/events/rebirth
 -brass-band-1
DTSTART;TZID=America/Los_Angeles:20130808T193000
DTEND;TZID=America/Los_Angeles:20130809T233000
CATEGORIES:"bay area", oakland
LOCATION:Yoshi's, Oakland
WEBSITE:http://yoshis.inticketing.com/evlist.php?events=search&searchs
 tr=Rebirth&smonth=0&sday=0&syear=0&vstate=0
URL:http://yoshis.inticketing.com/evlist.php?events=search&searchstr=R
 ebirth&smonth=0&sday=0&syear=0&vstate=0
CONTACT:
ORGANIZER:Yoshi's
ATTACH;FMTTYPE="image/jpeg":http://storage.ning.com/topology/rest/1.0/
 file/get/2247944246?profile=original
ATTENDEE;ROLE=REQ-PARTICIPANT;PARTSTAT=ACCEPTED;RSVP=TRUE;CN=negraybla
 nca:https://trueskool.com/profile/negrayblanca
ATTENDEE;ROLE=REQ-PARTICIPANT;PARTSTAT=ACCEPTED;RSVP=TRUE;CN="Anne Sal
 vatori":https://trueskool.com/profile/AnneSalvatori
ATTENDEE;ROLE=REQ-PARTICIPANT;PARTSTAT=ACCEPTED;RSVP=TRUE;CN="renee su
 lli":https://trueskool.com/profile/reneesulli
ATTENDEE;ROLE=REQ-PARTICIPANT;PARTSTAT=ACCEPTED;RSVP=TRUE;CN="Joseph K
 im":https://trueskool.com/profile/JosephKim
ATTENDEE;ROLE=REQ-PARTICIPANT;PARTSTAT=ACCEPTED;RSVP=TRUE;CN="Eric Dur
 an":https://trueskool.com/profile/EricDuran
ATTENDEE;ROLE=REQ-PARTICIPANT;PARTSTAT=ACCEPTED;RSVP=TRUE;CN="Sarah - 
 Reggae Gyals":https://trueskool.com/profile/SarahReggaeGyals
ATTENDEE;ROLE=REQ-PARTICIPANT;PARTSTAT=ACCEPTED;RSVP=TRUE;CN="Jon Schr
 oeder":https://trueskool.com/profile/JonSchroeder
ATTENDEE;ROLE=REQ-PARTICIPANT;PARTSTAT=ACCEPTED;RSVP=TRUE;CN=TophOne:h
 ttps://trueskool.com/profile/TophOne
ATTENDEE;ROLE=REQ-PARTICIPANT;PARTSTAT=ACCEPTED;RSVP=TRUE;CN="DEANinth
 eYAY!":https://trueskool.com/profile/DEANintheYAY
ATTENDEE;ROLE=REQ-PARTICIPANT;PARTSTAT=ACCEPTED;RSVP=TRUE;CN="Sean San
  Jova":https://trueskool.com/profile/SeanSanJova
ATTENDEE;ROLE=REQ-PARTICIPANT;PARTSTAT=ACCEPTED;RSVP=TRUE;CN="Ren the 
 Vinyl Archaeologist":https://trueskool.com/profile/xh51jvilojur
ATTENDEE;ROLE=REQ-PARTICIPANT;PARTSTAT=ACCEPTED;RSVP=TRUE;CN="Nancy La
 ws":https://trueskool.com/profile/NancyLaws
END:VEVENT
END:VCALENDAR
