BEGIN:VCALENDAR
PRODID:NingEventWidget-v1
VERSION:2.0
METHOD:PUBLISH
BEGIN:VTIMEZONE
TZID:America/Los_Angeles
X-LIC-LOCATION:America/Los_Angeles
BEGIN:DAYLIGHT
TZOFFSETFROM:-0800
TZOFFSETTO:-0700
TZNAME:PDT
DTSTART:19700308T020000
RRULE:FREQ=YEARLY;BYMONTH=3;BYDAY=2SU
END:DAYLIGHT
BEGIN:STANDARD
TZOFFSETFROM:-0700
TZOFFSETTO:-0800
TZNAME:PST
DTSTART:19701101T020000
RRULE:FREQ=YEARLY;BYMONTH=11;BYDAY=1SU
END:STANDARD
END:VTIMEZONE
BEGIN:VEVENT
UID:1464587:Event:229606
DTSTAMP:20260420T230340Z
SUMMARY:Rebelution (Las Vegas)
DESCRIPTION:\nBoulevard Pool at The Cosmopolitan of Las Vegas Las Veg
 as, NV 07:00 PM\n\nRebelution and Matisyahu - The Good Vibes Summer T
 our Details: Rebelution, Matisyahu\nFind Tickets »\n\n\n\n\nFor mor
 e information visit https://trueskool.com/events/rebelution-las-vegas
DTSTART;TZID=America/Los_Angeles:20130822T190000
DTEND;TZID=America/Los_Angeles:20130822T230000
CATEGORIES:"las vegas", nevada
LOCATION:Boulevard Pool at The Cosmopolitan of Las Vegas, Las Vegas
WEBSITE:http://www.ticketmaster.com/rebelution-and-matisyahu-the-good-
 las-vegas-nevada-08-22-2013/event/17004A99EE0FE91B?artistid=1182307&ma
 jorcatid=10001&minorcatid=5&tm_link=artist_msg-0_17004A99EE0FE91B
URL:http://www.ticketmaster.com/rebelution-and-matisyahu-the-good-las-
 vegas-nevada-08-22-2013/event/17004A99EE0FE91B?artistid=1182307&majorc
 atid=10001&minorcatid=5&tm_link=artist_msg-0_17004A99EE0FE91B
CONTACT:
ORGANIZER;CN="Editor's Pick":https://trueskool.com/profile/RentheVinyl
 Archaeologist
ATTACH;FMTTYPE="image/jpeg":http://storage.ning.com/topology/rest/1.0/
 file/get/2247944126?profile=original
ATTENDEE;ROLE=REQ-PARTICIPANT;PARTSTAT=ACCEPTED;RSVP=TRUE;CN="Editor's
  Pick":https://trueskool.com/profile/RentheVinylArchaeologist
END:VEVENT
END:VCALENDAR
