BEGIN:VCALENDAR
PRODID:NingEventWidget-v1
VERSION:2.0
METHOD:PUBLISH
BEGIN:VTIMEZONE
TZID:America/Los_Angeles
X-LIC-LOCATION:America/Los_Angeles
BEGIN:DAYLIGHT
TZOFFSETFROM:-0800
TZOFFSETTO:-0700
TZNAME:PDT
DTSTART:19700308T020000
RRULE:FREQ=YEARLY;BYMONTH=3;BYDAY=2SU
END:DAYLIGHT
BEGIN:STANDARD
TZOFFSETFROM:-0700
TZOFFSETTO:-0800
TZNAME:PST
DTSTART:19701101T020000
RRULE:FREQ=YEARLY;BYMONTH=11;BYDAY=1SU
END:STANDARD
END:VTIMEZONE
BEGIN:VEVENT
UID:1464587:Event:657832
DTSTAMP:20260423T085035Z
SUMMARY:Rebel Souljahz
DESCRIPTION:Hosted by BigBody Cisco\n\nRebel Souljahz released their d
 ebut CD, Nothing To Hide, in early 2008 and it hit the music scene lik
 e a hurricane. The CD spent 50+ weeks on Billboard magazine’s Top Re
 ggae Albums chart, was named by Billboard as the eighth best selling r
 eggae album of 2008, and named Rebel Souljahz the number eleven Reggae
  artist of that year. The album also won the much coveted and respecte
 d Reggae Album of the Year award at Hawaii’s Na Hoku Hanohano Awards
  in 2009.Their follow-up album, Bring Back The Days, is jam-packed wit
 h 13 all-original songs. Rebel Souljahz matured, having distilled thei
 r creative talents into a finely-tuned vocal group capable of offering
  a strong variety of musical styles and messages.\n\nFor more informat
 ion visit https://trueskool.com/events/rebel-souljahz-1
DTSTART;TZID=America/Los_Angeles:20170413T210000
DTEND;TZID=America/Los_Angeles:20170414T020000
CATEGORIES:"san francisco", "bay area"
LOCATION:Mezzanine, San Francisco
WEBSITE:https://rebelsouljahzatmezzanine.eventbrite.com/?aff=trueskool
URL:https://rebelsouljahzatmezzanine.eventbrite.com/?aff=trueskool
CONTACT:4156258880
ORGANIZER;CN=MezzanineSF:https://trueskool.com/profile/MezzanineSF
ATTACH;FMTTYPE="image/jpeg":http://storage.ning.com/topology/rest/1.0/
 file/get/2247993396?profile=original
ATTENDEE;ROLE=REQ-PARTICIPANT;PARTSTAT=ACCEPTED;RSVP=TRUE;CN=Mezzanine
 SF:https://trueskool.com/profile/MezzanineSF
END:VEVENT
END:VCALENDAR
