BEGIN:VCALENDAR
PRODID:NingEventWidget-v1
VERSION:2.0
METHOD:PUBLISH
BEGIN:VTIMEZONE
TZID:America/Los_Angeles
X-LIC-LOCATION:America/Los_Angeles
BEGIN:DAYLIGHT
TZOFFSETFROM:-0800
TZOFFSETTO:-0700
TZNAME:PDT
DTSTART:19700308T020000
RRULE:FREQ=YEARLY;BYMONTH=3;BYDAY=2SU
END:DAYLIGHT
BEGIN:STANDARD
TZOFFSETFROM:-0700
TZOFFSETTO:-0800
TZNAME:PST
DTSTART:19701101T020000
RRULE:FREQ=YEARLY;BYMONTH=11;BYDAY=1SU
END:STANDARD
END:VTIMEZONE
BEGIN:VEVENT
UID:1464587:Event:41488
DTSTAMP:20260421T234433Z
SUMMARY:REBEL RADIO!
DESCRIPTION:Grand Lion Productions & Club 6 present:\nREBEL RADIO!\nLi
 ve.Reggae.Hiphop.Artshow\n\nThis month we steppin it out with crucial 
 live performances, hotter DJs, and official live artwork comin straigh
 t from di Bay!\n\nAlso new this month is our first interactive artshow
 . Artist La-Func will have a series of unpainted leaf sculptures displ
 ayed on the walls. Mixed media will be provided and the unpainted leaf
  series will be allowed to be painted by the public as part of a dialo
 gue between the viewer and the artist. Come out and get down with us!\
 n\nfeaturing\nLive Reggae/Hip-Hop/Soul Band\nHypnotic Vibrations\n\nLi
 ve Hip-Hop from\nTinted Figments Crew\n\nand selections from:\n-Green 
 B (dancehall/reggae)\n-DJ Funky C (hip-hop)\n\nGallery & Live Art by:\
 nLuis Marroquin\nLa-Func\nLaura Victoria Salazar\n\n$5 Before 11pm\n21
 +\n\nFor more information visit https://trueskool.com/events/rebel-rad
 io-2
DTSTART;TZID=America/Los_Angeles:20091010T210000
DTEND;TZID=America/Los_Angeles:20091011T020000
CATEGORIES:hip, hop, dancehall, reggae, artshow, live, painting, djs, 
 band, mcs
LOCATION:Club 6
WEBSITE:http://clubsix1.com
URL:http://clubsix1.com
CONTACT:
ORGANIZER:Grand Lion Productions
ATTACH;FMTTYPE="image/jpeg":http://storage.ning.com/topology/rest/1.0/
 file/get/2247866269?profile=original
ATTENDEE;ROLE=REQ-PARTICIPANT;PARTSTAT=ACCEPTED;RSVP=TRUE;CN="Bleez - 
 I":https://trueskool.com/profile/IrieBleez
END:VEVENT
END:VCALENDAR
