BEGIN:VCALENDAR
PRODID:NingEventWidget-v1
VERSION:2.0
METHOD:PUBLISH
BEGIN:VTIMEZONE
TZID:America/Los_Angeles
X-LIC-LOCATION:America/Los_Angeles
BEGIN:DAYLIGHT
TZOFFSETFROM:-0800
TZOFFSETTO:-0700
TZNAME:PDT
DTSTART:19700308T020000
RRULE:FREQ=YEARLY;BYMONTH=3;BYDAY=2SU
END:DAYLIGHT
BEGIN:STANDARD
TZOFFSETFROM:-0700
TZOFFSETTO:-0800
TZNAME:PST
DTSTART:19701101T020000
RRULE:FREQ=YEARLY;BYMONTH=11;BYDAY=1SU
END:STANDARD
END:VTIMEZONE
BEGIN:VEVENT
UID:1464587:Event:41027
DTSTAMP:20260422T025734Z
SUMMARY:Rebel Radio
DESCRIPTION:Grand Lion Productions & Club 6 present:\nRebel Radio\nLiv
 e.Reggae.Hiphop.Artshow\n\nThis month we steppin it out with crucial l
 ive performances, hotter DJs, and official live artwork comin straight
  from di Bay!\n\nAlso new this month is our first interactive artshow.
  Artist La-Func will have a series of unpainted leaf sculptures displa
 yed on the walls. Mixed media will be provided and the unpainted leaf 
 series will be allowed to be painted by the public as part of a dialog
 ue between the viewer and the artist. Come out and get down with us!\n
 \nfeaturing\nLive Reggae/Hip-Hop/Soul Band\n\nHypnotic Vibrations\n\na
 nd selections from:\n-Green B (dancehall/reggae)\n-DJ Funky C (hip-hop
 )\n\nGallery & Live Art by:\nLuis Marroquin\nLa-Func\nLaura Victoria S
 alazar\n\n\nPrice $5/$10\ngoing.com\nTime 9pm-2am\nMusic Reggae, Hip-H
 op\n\nFor more information visit https://trueskool.com/events/rebel-ra
 dio-1
DTSTART;TZID=America/Los_Angeles:20091010T210000
DTEND;TZID=America/Los_Angeles:20091011T030000
CATEGORIES:reggae, hip, hop
LOCATION:Club Six, San Francisco
WEBSITE:http://www.clubsix1.com
URL:http://www.clubsix1.com
CONTACT:415-531-6593
ORGANIZER:Angel
ATTACH;FMTTYPE="image/jpeg":http://storage.ning.com/topology/rest/1.0/
 file/get/2247866882?profile=original
ATTENDEE;ROLE=REQ-PARTICIPANT;PARTSTAT=ACCEPTED;RSVP=TRUE;CN=Cecily:ht
 tps://trueskool.com/profile/Cecily
END:VEVENT
END:VCALENDAR
