BEGIN:VCALENDAR
PRODID:NingEventWidget-v1
VERSION:2.0
METHOD:PUBLISH
BEGIN:VTIMEZONE
TZID:America/Los_Angeles
X-LIC-LOCATION:America/Los_Angeles
BEGIN:DAYLIGHT
TZOFFSETFROM:-0800
TZOFFSETTO:-0700
TZNAME:PDT
DTSTART:19700308T020000
RRULE:FREQ=YEARLY;BYMONTH=3;BYDAY=2SU
END:DAYLIGHT
BEGIN:STANDARD
TZOFFSETFROM:-0700
TZOFFSETTO:-0800
TZNAME:PST
DTSTART:19701101T020000
RRULE:FREQ=YEARLY;BYMONTH=11;BYDAY=1SU
END:STANDARD
END:VTIMEZONE
BEGIN:VEVENT
UID:1464587:Event:31060
DTSTAMP:20260420T180811Z
SUMMARY:RAW SESSIONS w/ Opio [Hieroglyphics/SoulsOfMischief] Evangille
 st JBillion BarNone w/ Dex Beats & DJ Strategy @ Elbo Room, SF
DESCRIPTION:\nRAW SESSIONS\nPERFORMING LIVE:\nOPIO\n[Hieroglyphics/Sou
 lsOfMischief]\n\nDA EVANGILLEST\n\nJBILLION\n\nBARNONE\n\nHosted by DE
 X BEATS [Mr. Rockin' Up Work]\nIn The Mix DJ STRATEGY [djartsacademy.c
 om]\n\n$10 / Get on the guestlist - beetiki@gmail.com\n\nFor more info
 rmation visit https://trueskool.com/events/raw-sessions-w-opio
DTSTART;TZID=America/Los_Angeles:20090424T220000
DTEND;TZID=America/Los_Angeles:20090425T020000
CATEGORIES:rap, hip-hop, freestyle, show, live, mic
LOCATION:Elbo Room, San Francisco, CA
WEBSITE:http://www.stashonline.com
URL:http://www.stashonline.com
CONTACT:
ORGANIZER;CN="STASH MAGAZINE":https://trueskool.com/profile/STASHMAGAZ
 INE42
ATTACH;FMTTYPE="image/jpeg":http://storage.ning.com/topology/rest/1.0/
 file/get/2247856238?profile=original
ATTENDEE;ROLE=REQ-PARTICIPANT;PARTSTAT=ACCEPTED;RSVP=TRUE;CN="STASH MA
 GAZINE":https://trueskool.com/profile/STASHMAGAZINE42
END:VEVENT
END:VCALENDAR
