BEGIN:VCALENDAR
PRODID:NingEventWidget-v1
VERSION:2.0
METHOD:PUBLISH
BEGIN:VTIMEZONE
TZID:America/Los_Angeles
X-LIC-LOCATION:America/Los_Angeles
BEGIN:DAYLIGHT
TZOFFSETFROM:-0800
TZOFFSETTO:-0700
TZNAME:PDT
DTSTART:19700308T020000
RRULE:FREQ=YEARLY;BYMONTH=3;BYDAY=2SU
END:DAYLIGHT
BEGIN:STANDARD
TZOFFSETFROM:-0700
TZOFFSETTO:-0800
TZNAME:PST
DTSTART:19701101T020000
RRULE:FREQ=YEARLY;BYMONTH=11;BYDAY=1SU
END:STANDARD
END:VTIMEZONE
BEGIN:VEVENT
UID:1464587:Event:26276
DTSTAMP:20260423T070919Z
SUMMARY:RAW SESSIONS w/ Bambu Beetiki JBillion Evangillest @ Elbo!
DESCRIPTION:Spread the word and REPOST!\n\n\"Another dope night of dop
 e hip-hop... DOPE!\"\n\nGET ON THE GUESTLIST - BEETIKI@GMAIL.COM\n\nST
 ASH MAGAZINE (stashonline. com) and HOMEGROWN OUTFITTERS presents »\n
 \n\n\nRAW SESSIONS\n\nFRIDAY FEBRUARY 6, 2009\n\n@ ELBO ROOM\n\n647 VA
 LENCIA STREET, SAN FRANCISCO\n\n\n\nPERFORMING LIVE »\nBAMBU\n\n\nBEE
 TIKI [of Elemnop]\n\n\nJ-BILLION\n\n\nDA EVANGILLEST\n\n\nIN THE MIX D
 J STRATEGY\n\n\nHOSTED BY EMASSIN [of Elemnop]\n\n\n$8 BEFORE 11PM / $
 6 with COLLEGE ID\n\n21+ / 10PM-2AM\n\nGET ON THE GUESTLIST: BEETIKI@G
 MAIL.COM\n\nFor more information visit https://trueskool.com/events/ra
 w-sessions-w-bambu-beetiki
DTSTART;TZID=America/Los_Angeles:20090206T220000
DTEND;TZID=America/Los_Angeles:20090207T020000
CATEGORIES:hip-hop, rap, performance, show, freestyle, dope, shit
LOCATION:Elbo Room, San Francisco, CA
WEBSITE:http://www.stashonline.com
URL:http://www.stashonline.com
CONTACT:
ORGANIZER:Stash Magazine & Homegrown Outfitters
ATTACH;FMTTYPE="image/jpeg":http://storage.ning.com/topology/rest/1.0/
 file/get/2247856842?profile=original
ATTENDEE;ROLE=REQ-PARTICIPANT;PARTSTAT=ACCEPTED;RSVP=TRUE;CN="Stash Ma
 gazine":https://trueskool.com/profile/StashMagazine
END:VEVENT
END:VCALENDAR
