BEGIN:VCALENDAR
PRODID:NingEventWidget-v1
VERSION:2.0
METHOD:PUBLISH
BEGIN:VTIMEZONE
TZID:America/Los_Angeles
X-LIC-LOCATION:America/Los_Angeles
BEGIN:DAYLIGHT
TZOFFSETFROM:-0800
TZOFFSETTO:-0700
TZNAME:PDT
DTSTART:19700308T020000
RRULE:FREQ=YEARLY;BYMONTH=3;BYDAY=2SU
END:DAYLIGHT
BEGIN:STANDARD
TZOFFSETFROM:-0700
TZOFFSETTO:-0800
TZNAME:PST
DTSTART:19701101T020000
RRULE:FREQ=YEARLY;BYMONTH=11;BYDAY=1SU
END:STANDARD
END:VTIMEZONE
BEGIN:VEVENT
UID:1464587:Event:30660
DTSTAMP:20260420T195743Z
SUMMARY:Raw Deluxe
DESCRIPTION:Raw Deluxe\nRaw Deluxe performs live\nin support of thier 
 new album\nRaw Communication\nalong with special guest\nPleasuremaker 
 (afrolicious)\n& DJs\nMAKossa\nKung Fu Chris\nwww.rawdeluxemusic.com\n
 myspace.com/pleasuremaker\n\n\nPrice $10\nTime 9pm-2am\nMusic Live Fun
 k & Hip-Hop\n\nFor more information visit https://trueskool.com/events
 /raw-deluxe
DTSTART;TZID=America/Los_Angeles:20090424T210000
DTEND;TZID=America/Los_Angeles:20090425T030000
CATEGORIES:funk, hip, hop
LOCATION:Club Six Dark Room, San Francisco, CA
WEBSITE:http://www.clubsix1.com
URL:http://www.clubsix1.com
CONTACT:415-531-6593
ORGANIZER:Angel
ATTACH;FMTTYPE="image/jpeg":http://storage.ning.com/topology/rest/1.0/
 file/get/2247856134?profile=original
ATTENDEE;ROLE=REQ-PARTICIPANT;PARTSTAT=ACCEPTED;RSVP=TRUE;CN=Cecily:ht
 tps://trueskool.com/profile/Cecily
END:VEVENT
END:VCALENDAR
