BEGIN:VCALENDAR
PRODID:NingEventWidget-v1
VERSION:2.0
METHOD:PUBLISH
BEGIN:VTIMEZONE
TZID:America/Los_Angeles
X-LIC-LOCATION:America/Los_Angeles
BEGIN:DAYLIGHT
TZOFFSETFROM:-0800
TZOFFSETTO:-0700
TZNAME:PDT
DTSTART:19700308T020000
RRULE:FREQ=YEARLY;BYMONTH=3;BYDAY=2SU
END:DAYLIGHT
BEGIN:STANDARD
TZOFFSETFROM:-0700
TZOFFSETTO:-0800
TZNAME:PST
DTSTART:19701101T020000
RRULE:FREQ=YEARLY;BYMONTH=11;BYDAY=1SU
END:STANDARD
END:VTIMEZONE
BEGIN:VEVENT
UID:1464587:Event:25871
DTSTAMP:20260423T041449Z
SUMMARY:Raw Deluxe live @ Pier 23 Friday Feb 6th
DESCRIPTION:Live Funk & Hip-Hop @ Pier 23 with Raw Deluxe!\n\nFriday F
 eb 6th\nPier 23 on The Embarcadero\n10pm - 2am 21 & up. $10\nhttp://ww
 w.pier23cafe.com/\n\nRaw Deluxe Website:\nhttp://rawdeluxemusic.com\n\
 nlisten to tracks from the upcoming album on myspace...\nhttp://myspac
 e.com/rawdeluxe\n\nFor more information visit https://trueskool.com/ev
 ents/raw-deluxe-live-pier-23-1
DTSTART;TZID=America/Los_Angeles:20090206T220000
DTEND;TZID=America/Los_Angeles:20090207T020000
CATEGORIES:hip-hop, funk, live, show, mcees, music
LOCATION:Pier 23, San Francisco, CA
WEBSITE:http://pier23cafe.com
URL:http://pier23cafe.com
CONTACT:
ORGANIZER;CN="kung fu chris":https://trueskool.com/profile/kungfuchris
ATTACH;FMTTYPE="image/jpeg":http://storage.ning.com/topology/rest/1.0/
 file/get/2247853802?profile=original
ATTENDEE;ROLE=REQ-PARTICIPANT;PARTSTAT=ACCEPTED;RSVP=TRUE;CN="DJ Chick
 en Skratch":https://trueskool.com/profile/DJChickenSkratch
ATTENDEE;ROLE=REQ-PARTICIPANT;PARTSTAT=ACCEPTED;RSVP=TRUE;CN="Matt F":
 https://trueskool.com/profile/MattF
ATTENDEE;ROLE=REQ-PARTICIPANT;PARTSTAT=ACCEPTED;RSVP=TRUE;CN="kung fu 
 chris":https://trueskool.com/profile/kungfuchris
END:VEVENT
END:VCALENDAR
