BEGIN:VCALENDAR
PRODID:NingEventWidget-v1
VERSION:2.0
METHOD:PUBLISH
BEGIN:VTIMEZONE
TZID:America/Los_Angeles
X-LIC-LOCATION:America/Los_Angeles
BEGIN:DAYLIGHT
TZOFFSETFROM:-0800
TZOFFSETTO:-0700
TZNAME:PDT
DTSTART:19700308T020000
RRULE:FREQ=YEARLY;BYMONTH=3;BYDAY=2SU
END:DAYLIGHT
BEGIN:STANDARD
TZOFFSETFROM:-0700
TZOFFSETTO:-0800
TZNAME:PST
DTSTART:19701101T020000
RRULE:FREQ=YEARLY;BYMONTH=11;BYDAY=1SU
END:STANDARD
END:VTIMEZONE
BEGIN:VEVENT
UID:1464587:Event:78759
DTSTAMP:20260421T032835Z
SUMMARY:Raphael Saadiq with Special Guest Quadron
DESCRIPTION:Raphael Saadiq with Special Guest Quadron\n \nThe Regency
  Ballroom\nSan Francisco, CA\nFri, 04/15/1109:00 PM\nFind Tickets »\
 n\nFor more information visit https://trueskool.com/events/raphael-saa
 diq-with-special
DTSTART;TZID=America/Los_Angeles:20110415T210000
DTEND;TZID=America/Los_Angeles:20110416T230000
CATEGORIES:bay, area, san, francisco, ca
LOCATION:Regency Ballroom, San Francisco
WEBSITE:http://www.ticketmaster.com/event/2C00462E2BA24A2B?artistid=80
 7364&majorcatid=10001&minorcatid=202
URL:http://www.ticketmaster.com/event/2C00462E2BA24A2B?artistid=807364
 &majorcatid=10001&minorcatid=202
CONTACT:
ORGANIZER:Golden Voice
ATTACH;FMTTYPE="image/jpeg":http://storage.ning.com/topology/rest/1.0/
 file/get/2247872350?profile=original
ATTENDEE;ROLE=REQ-PARTICIPANT;PARTSTAT=ACCEPTED;RSVP=TRUE;CN="Editor's
  Pick":https://trueskool.com/profile/RentheVinylArchaeologist
END:VEVENT
END:VCALENDAR
