BEGIN:VCALENDAR
PRODID:NingEventWidget-v1
VERSION:2.0
METHOD:PUBLISH
BEGIN:VTIMEZONE
TZID:America/Los_Angeles
X-LIC-LOCATION:America/Los_Angeles
BEGIN:DAYLIGHT
TZOFFSETFROM:-0800
TZOFFSETTO:-0700
TZNAME:PDT
DTSTART:19700308T020000
RRULE:FREQ=YEARLY;BYMONTH=3;BYDAY=2SU
END:DAYLIGHT
BEGIN:STANDARD
TZOFFSETFROM:-0700
TZOFFSETTO:-0800
TZNAME:PST
DTSTART:19701101T020000
RRULE:FREQ=YEARLY;BYMONTH=11;BYDAY=1SU
END:STANDARD
END:VTIMEZONE
BEGIN:VEVENT
UID:1464587:Event:318122
DTSTAMP:20260421T034246Z
SUMMARY:Rakim (NYC)
DESCRIPTION:\nRakim\n\n(96)\n\nS.O.B.'s New York, NY\n\n Thu, 03/27
 /14 09:00 PM\n\nFind Tickets »\n\n\n\n\n\nFor more information visi
 t https://trueskool.com/events/rakim-nyc
DTSTART;TZID=America/Los_Angeles:20140327T210000
DTEND;TZID=America/Los_Angeles:20140327T230000
CATEGORIES:nyc
LOCATION:S.O.B.'s , NY
WEBSITE:http://www.ticketweb.com/t3/sale/SaleEventDetail?dispatch=load
 SelectionData&eventId=4053514&REFERRAL_ID=tmfeed&crosssite=TM_US:77136
 7:104
URL:http://www.ticketweb.com/t3/sale/SaleEventDetail?dispatch=loadSele
 ctionData&eventId=4053514&REFERRAL_ID=tmfeed&crosssite=TM_US:771367:10
 4
CONTACT:
ORGANIZER;CN="Editor's Pick":https://trueskool.com/profile/RentheVinyl
 Archaeologist
ATTACH;FMTTYPE="image/jpeg":http://storage.ning.com/topology/rest/1.0/
 file/get/2247935968?profile=original
ATTENDEE;ROLE=REQ-PARTICIPANT;PARTSTAT=ACCEPTED;RSVP=TRUE;CN="Editor's
  Pick":https://trueskool.com/profile/RentheVinylArchaeologist
END:VEVENT
END:VCALENDAR
