BEGIN:VCALENDAR
PRODID:NingEventWidget-v1
VERSION:2.0
METHOD:PUBLISH
BEGIN:VTIMEZONE
TZID:America/Los_Angeles
X-LIC-LOCATION:America/Los_Angeles
BEGIN:DAYLIGHT
TZOFFSETFROM:-0800
TZOFFSETTO:-0700
TZNAME:PDT
DTSTART:19700308T020000
RRULE:FREQ=YEARLY;BYMONTH=3;BYDAY=2SU
END:DAYLIGHT
BEGIN:STANDARD
TZOFFSETFROM:-0700
TZOFFSETTO:-0800
TZNAME:PST
DTSTART:19701101T020000
RRULE:FREQ=YEARLY;BYMONTH=11;BYDAY=1SU
END:STANDARD
END:VTIMEZONE
BEGIN:VEVENT
UID:1464587:Event:667008
DTSTAMP:20260422T000905Z
SUMMARY:RAKIM
DESCRIPTION:RAKIM\r\nShow: 9:00 pm (Doors: 8:00 pm)  Ages 21 and Up $3
 0 ADV / $35 DOOR\r\nThe New Parish, Oakland, CA 1743 San Pablo Ave, Oa
 kland, CA  Phone: +1 510-444-7474\n\nFor more information visit https:
 //trueskool.com/events/rakim-2
DTSTART;TZID=America/Los_Angeles:20170929T210000
DTEND;TZID=America/Los_Angeles:20170929T230000
CATEGORIES:"san francisco", oakland, berkley, "san jose", "bay area"
LOCATION:The New Parish
WEBSITE:http://www.ticketweb.com/t3/sale/SaleEventDetail?dispatch=load
 SelectionData&amp;amp;eventId=7641525&amp;amp;pl=newparish&amp;amp;REF
 ID=clientsitewp
URL:http://www.ticketweb.com/t3/sale/SaleEventDetail?dispatch=loadSele
 ctionData&amp;amp;eventId=7641525&amp;amp;pl=newparish&amp;amp;REFID=c
 lientsitewp
CONTACT:
ORGANIZER;CN="Editor's Pick":https://trueskool.com/profile/RentheVinyl
 Archaeologist
ATTACH;FMTTYPE="image/jpeg":http://storage.ning.com/topology/rest/1.0/
 file/get/2059289573?profile=original
ATTENDEE;ROLE=REQ-PARTICIPANT;PARTSTAT=ACCEPTED;RSVP=TRUE;CN="Editor's
  Pick":https://trueskool.com/profile/RentheVinylArchaeologist
END:VEVENT
END:VCALENDAR
