BEGIN:VCALENDAR
PRODID:NingEventWidget-v1
VERSION:2.0
METHOD:PUBLISH
BEGIN:VTIMEZONE
TZID:America/Los_Angeles
X-LIC-LOCATION:America/Los_Angeles
BEGIN:DAYLIGHT
TZOFFSETFROM:-0800
TZOFFSETTO:-0700
TZNAME:PDT
DTSTART:19700308T020000
RRULE:FREQ=YEARLY;BYMONTH=3;BYDAY=2SU
END:DAYLIGHT
BEGIN:STANDARD
TZOFFSETFROM:-0700
TZOFFSETTO:-0800
TZNAME:PST
DTSTART:19701101T020000
RRULE:FREQ=YEARLY;BYMONTH=11;BYDAY=1SU
END:STANDARD
END:VTIMEZONE
BEGIN:VEVENT
UID:1464587:Event:69000
DTSTAMP:20260420T180641Z
SUMMARY:Raheem Devaughn
DESCRIPTION:Raheem Devaughn\n\nB.B. King Blues Club and Grill\n237 Wes
 t 42nd Street, New York, NY 10036\nMon, 11/29/10\n08:00 PM\nFind Ticke
 ts\n \n\nFor more information visit https://trueskool.com/events/rahee
 m-devaughn
DTSTART;TZID=America/Los_Angeles:20101129T200000
DTEND;TZID=America/Los_Angeles:20101129T230000
CATEGORIES:new, york, ny
LOCATION:B.B. King Blues Club and Grill
WEBSITE:http://www.ticketmaster.com/event/0000454E9EFF5DFC?artistid=99
 3161&majorcatid=10001&minorcatid=202
URL:http://www.ticketmaster.com/event/0000454E9EFF5DFC?artistid=993161
 &majorcatid=10001&minorcatid=202
CONTACT:
ORGANIZER:B.B. King Blues Club and Grill
ATTACH;FMTTYPE="image/jpeg":http://storage.ning.com/topology/rest/1.0/
 file/get/2247885586?profile=original
ATTENDEE;ROLE=REQ-PARTICIPANT;PARTSTAT=ACCEPTED;RSVP=TRUE;CN="Editor's
  Pick":https://trueskool.com/profile/RentheVinylArchaeologist
END:VEVENT
END:VCALENDAR
