BEGIN:VCALENDAR
PRODID:NingEventWidget-v1
VERSION:2.0
METHOD:PUBLISH
BEGIN:VTIMEZONE
TZID:America/Los_Angeles
X-LIC-LOCATION:America/Los_Angeles
BEGIN:DAYLIGHT
TZOFFSETFROM:-0800
TZOFFSETTO:-0700
TZNAME:PDT
DTSTART:19700308T020000
RRULE:FREQ=YEARLY;BYMONTH=3;BYDAY=2SU
END:DAYLIGHT
BEGIN:STANDARD
TZOFFSETFROM:-0700
TZOFFSETTO:-0800
TZNAME:PST
DTSTART:19701101T020000
RRULE:FREQ=YEARLY;BYMONTH=11;BYDAY=1SU
END:STANDARD
END:VTIMEZONE
BEGIN:VEVENT
UID:1464587:Event:82189
DTSTAMP:20260421T020300Z
SUMMARY:RAH DIGGA @ Club Six
DESCRIPTION:Inhouse Talent & We All We Got PresentRAH DIGGA...Hosted b
 y SELLASSIE SATURDAY APRIL 16, 2011Tickets: https://www.brownpapertick
 ets.com/event/16...  WE ALL WE GOT returns to Club Six on April 16th w
 ith acclaimed New York Rapper RAH DIGGA, headlining the showcase serie
 s in a rare SF performance. Presented by Inhouse Talent and hosted by 
 Revolutionary Poet Sellassie, WE ALL WE GOT is an independent artist s
 howcase designed to expose interesting and determined emerging artists
 , cultivate relationships, and build community. WE ALL WE GOT is a pla
 ce to discover some new music you just might like and mightn’t hear 
 elsewhere.Rah Digga is well known as a long time member of the Flipmod
 e Squad a hip hop group led by Busta Rhymes, she parted ways amicably 
 with the group in 2007 She has been called \"one of rap's most promine
 nt women MCs, by Allmusic and \"one of hip-hop's most skilled female M
 Cs\" in the book How to Rap. Rah Digga recently released a new album, 
 Classic, to high acclaim with production by Nottz, and a promo single 
 was released entitled \"This Ain't No Lil Kid Rap\". In addition to th
 e upcoming show, Digga is also releasing the latest remix from Classic
 . The track, “Check Me Boo (9th Still Checkin’ Remix),” is 9th W
 onder’s own take on the fan favorite “Check Me Boo.” While, as w
 ith previous Digga remixes from the likes of Khrysis and others, the l
 yrics remain untouched, 9th Wonder brings a new feel musically, with u
 nderstated soulful boom-bap to match the forceful lyrics and contrast 
 Nottz’ heavy drums, deep bass, and organs. WE ALL WE GOT host Sellas
 sie is shining as a leading progressive voice in S.F. Bay Hip Hop. Wit
 h an acclaimed debut release, I’m Tryin’ to Make a Livin’ Not a 
 Killin’, and a new follow-up album, Sins of Your Forefathers, he is 
 carving his niche in Hip Hop. Although inspired and motivated from rea
 ding hundreds of books, Sellassie is self-taught and came up on the st
 reets. Sellassie’s lyric is rooted in a deep comprehension of the wo
 rld around him. He writes on domestic and world politics, internationa
 l relations and community needs, corporate thuggery and the obstacles 
 independent artists face. He has seen first hand the problems that his
  music addresses. He has seen black on black crime, he has lost many c
 lose friends to homicide, he has seen the drugs and money destroy his 
 community, he has witnessed the decay of Independent Bay Hip Hop. In a
 ddition to the new record, Sellassie is building this revolutionary sh
 ow series WE ALL WE GOT, is working with many social, political and yo
 uth based initiatives, and is a contributor to various special project
 s including Emcees for Peace’s The Matter That Matters CD and the fi
 lm, “It Doesn’t Cost Nothin’ to Dream.“ \n\nFor more informati
 on visit https://trueskool.com/events/rah-digga-club-six
DTSTART;TZID=America/Los_Angeles:20110416T210000
DTEND;TZID=America/Los_Angeles:20110417T020000
CATEGORIES:san, francisco, "ca."
LOCATION:Club Six San Francisco
WEBSITE:http://www.clubsix1.com
URL:http://www.clubsix1.com
CONTACT:415-863-1221
ORGANIZER;CN=Cecily:https://trueskool.com/profile/Cecily
ATTACH;FMTTYPE="image/jpeg":
ATTENDEE;ROLE=REQ-PARTICIPANT;PARTSTAT=ACCEPTED;RSVP=TRUE;CN=Cecily:ht
 tps://trueskool.com/profile/Cecily
END:VEVENT
END:VCALENDAR
