BEGIN:VCALENDAR
PRODID:NingEventWidget-v1
VERSION:2.0
METHOD:PUBLISH
BEGIN:VTIMEZONE
TZID:America/Los_Angeles
X-LIC-LOCATION:America/Los_Angeles
BEGIN:DAYLIGHT
TZOFFSETFROM:-0800
TZOFFSETTO:-0700
TZNAME:PDT
DTSTART:19700308T020000
RRULE:FREQ=YEARLY;BYMONTH=3;BYDAY=2SU
END:DAYLIGHT
BEGIN:STANDARD
TZOFFSETFROM:-0700
TZOFFSETTO:-0800
TZNAME:PST
DTSTART:19701101T020000
RRULE:FREQ=YEARLY;BYMONTH=11;BYDAY=1SU
END:STANDARD
END:VTIMEZONE
BEGIN:VEVENT
UID:1464587:Event:80751
DTSTAMP:20260421T020717Z
SUMMARY:RAEKWON of WU-TANG CLAN LIVE IN MODESTO!
DESCRIPTION:Pure209, Talk of the Town, Urban Riot Gear & Cobalt Presen
 tsSHAOLIN Vs WU-TANG TOUR LIVE IN MODESTO!Performing Live: RAEKWON the
  Chef (of Grammy-nominated multi-platinum selling hip hop supergroup W
 U-TANG CLAN! promoting his new album Shaolin vs Wu-tang)also performin
 g:A VERY Special Surprise guest WU-TANG MEMBER!!+COB@LT & NIKFUQThis i
 s the first time WU-TANG has ever come to modesto & this show is a gua
 ranteed Sell out so get your presale tix ASAP! they will be available 
 at www.tickets.com & from the 3 promotional companies!Friday April 29t
 h at Fat Cat Music House & Lounge$25 Presale $30 Door21+ Doors at 9pm 
 . Early Arrival SuggestedFor Bottle Service / V.i.p. Booth Reservation
 s contact 209 524-1400\n\nFor more information visit https://trueskool
 .com/events/raekwon-of-wutang-clan-live-in
DTSTART;TZID=America/Los_Angeles:20110429T200000
DTEND;TZID=America/Los_Angeles:20110430T020000
CATEGORIES:modesto, 209, central, valley, stanislaus, county, fat, cat
LOCATION:fat cat music house & lounge, modesto ca
WEBSITE:http://www.facebook.com/cobaltpresents
URL:http://www.facebook.com/cobaltpresents
CONTACT:209 524 1400
ORGANIZER;CN="Cobalt Presents":https://trueskool.com/profile/CobaltPre
 sents
ATTACH;FMTTYPE="image/jpeg":http://storage.ning.com/topology/rest/1.0/
 file/get/2247893085?profile=original
ATTENDEE;ROLE=REQ-PARTICIPANT;PARTSTAT=ACCEPTED;RSVP=TRUE;CN="Cobalt P
 resents":https://trueskool.com/profile/CobaltPresents
END:VEVENT
END:VCALENDAR
