BEGIN:VCALENDAR
PRODID:NingEventWidget-v1
VERSION:2.0
METHOD:PUBLISH
BEGIN:VTIMEZONE
TZID:America/Los_Angeles
X-LIC-LOCATION:America/Los_Angeles
BEGIN:DAYLIGHT
TZOFFSETFROM:-0800
TZOFFSETTO:-0700
TZNAME:PDT
DTSTART:19700308T020000
RRULE:FREQ=YEARLY;BYMONTH=3;BYDAY=2SU
END:DAYLIGHT
BEGIN:STANDARD
TZOFFSETFROM:-0700
TZOFFSETTO:-0800
TZNAME:PST
DTSTART:19701101T020000
RRULE:FREQ=YEARLY;BYMONTH=11;BYDAY=1SU
END:STANDARD
END:VTIMEZONE
BEGIN:VEVENT
UID:1464587:Event:35954
DTSTAMP:20260421T005831Z
SUMMARY:R Kelly, Keyshia Cole, Plies
DESCRIPTION:\n106 Kmel Presents Summer Block Party: R Kelly, Keyshia C
 ole, Plies\n\nFri, 08/28/09\nORACLE Arena, 7000 Coliseum Way, Oakland,
  CA 94621\n07:30 PM\n\n\n\n\n\nFor more information visit https://true
 skool.com/events/r-kelly-keyshia-cole-plies
DTSTART;TZID=America/Los_Angeles:20090828T193000
DTEND;TZID=America/Los_Angeles:20090828T230000
CATEGORIES:"r&b", hip, hop
LOCATION:ORACLE Arena, Oakland, CA
WEBSITE:http://www.ticketmaster.com/event/1C0042DEAC845DAD?artistid=76
 6948&majorcatid=10001&minorcatid=202
URL:http://www.ticketmaster.com/event/1C0042DEAC845DAD?artistid=766948
 &majorcatid=10001&minorcatid=202
CONTACT:
ORGANIZER:106 Kmel
ATTACH;FMTTYPE="image/jpeg":http://storage.ning.com/topology/rest/1.0/
 file/get/2247859259?profile=original
ATTENDEE;ROLE=REQ-PARTICIPANT;PARTSTAT=ACCEPTED;RSVP=TRUE;CN="Ren the 
 Vinyl Archaeologist":https://trueskool.com/profile/xh51jvilojur
END:VEVENT
END:VCALENDAR
