BEGIN:VCALENDAR
PRODID:NingEventWidget-v1
VERSION:2.0
METHOD:PUBLISH
BEGIN:VTIMEZONE
TZID:America/Los_Angeles
X-LIC-LOCATION:America/Los_Angeles
BEGIN:DAYLIGHT
TZOFFSETFROM:-0800
TZOFFSETTO:-0700
TZNAME:PDT
DTSTART:19700308T020000
RRULE:FREQ=YEARLY;BYMONTH=3;BYDAY=2SU
END:DAYLIGHT
BEGIN:STANDARD
TZOFFSETFROM:-0700
TZOFFSETTO:-0800
TZNAME:PST
DTSTART:19701101T020000
RRULE:FREQ=YEARLY;BYMONTH=11;BYDAY=1SU
END:STANDARD
END:VTIMEZONE
BEGIN:VEVENT
UID:1464587:Event:831209
DTSTAMP:20260423T211136Z
SUMMARY:Qveen Herby (WIN TICKETS)
DESCRIPTION:ENTER TO WIN A PAIR OF TICKETS. WINNER WILL BE DRAWN RANDO
 MLY AND ANNOUNCED 2 DAYS PRIOR TO EVENT. \r\n\r\n\r\nSaturday, Novemb
 er 02, 2024 The Alchemist Tour QVEEN HERBY\r\nFox Theater Oakland, CA 
 Doors: 8:00pm | Show: 9:00pm\r\n>> BUY TICKETS\r\n\r\n\r\n\n\nFor more
  information visit https://trueskool.com/events/qveen-herby-win-ticket
 s
DTSTART;TZID=America/Los_Angeles:20241102T200000
DTEND;TZID=America/Los_Angeles:20241102T230000
CATEGORIES:"bay area", oakland
LOCATION:Fox Theater, Oakland
WEBSITE:https://www.ticketmaster.com/event/1C0060D597FD285A?camefrom=C
 FC_ANOTHERPLANET_trueskool&amp;brand=anotherplanet
URL:https://www.ticketmaster.com/event/1C0060D597FD285A?camefrom=CFC_A
 NOTHERPLANET_trueskool&amp;brand=anotherplanet
CONTACT:
ORGANIZER:Another Planet Entertainment
ATTACH;FMTTYPE="image/jpeg":https://storage.ning.com/topology/rest/1.0
 /file/get/12754938272?profile=original
ATTENDEE;ROLE=REQ-PARTICIPANT;PARTSTAT=ACCEPTED;RSVP=TRUE;CN="Editor's
  Pick":https://trueskool.com/profile/RentheVinylArchaeologist
END:VEVENT
END:VCALENDAR
