BEGIN:VCALENDAR
PRODID:NingEventWidget-v1
VERSION:2.0
METHOD:PUBLISH
BEGIN:VTIMEZONE
TZID:America/Los_Angeles
X-LIC-LOCATION:America/Los_Angeles
BEGIN:DAYLIGHT
TZOFFSETFROM:-0800
TZOFFSETTO:-0700
TZNAME:PDT
DTSTART:19700308T020000
RRULE:FREQ=YEARLY;BYMONTH=3;BYDAY=2SU
END:DAYLIGHT
BEGIN:STANDARD
TZOFFSETFROM:-0700
TZOFFSETTO:-0800
TZNAME:PST
DTSTART:19701101T020000
RRULE:FREQ=YEARLY;BYMONTH=11;BYDAY=1SU
END:STANDARD
END:VTIMEZONE
BEGIN:VEVENT
UID:1464587:Event:622700
DTSTAMP:20260422T135632Z
SUMMARY:Queens of the Islands: Anuhea & Etana
DESCRIPTION:With a delicate balance of fragility, strength and sass, H
 awaiian born singer/songwriter Anuheablends engaging lyrics, acoustic
  soul, pop, rap and reggae into a style that has earned her a reputati
 on as Hawaii’s #1 female artist. Anuhea’s signature guitar rhythms
 , sultry vocals and honest song writing weave acoustic soul, R&B, jazz
  and hip hop with pop appeal, making Anuhea Hawaii’s next rising sta
 r.\n\nReggae music has birthed yet another rarity- a spirited and soul
 ful singer/songwriter in the eloquent and enchanting empress Etana!\n
 \nShe is a reggae soul songstress with an uplifting message and inspir
 ational sounds. Ranging from performances with a full live band to a u
 p-close and personal acoustic set with a guitarist and her vocals, alw
 ays leaving fans on a natural and spiritual high. Singer/Songwriter/Ac
 tivist, Inspiring and changing lives through music and philanthropy.\n
 \nFor more information visit https://trueskool.com/events/queens-of-th
 e-islands-anuhea-etana
DTSTART;TZID=America/Los_Angeles:20150606T210000
DTEND;TZID=America/Los_Angeles:20150607T020000
CATEGORIES:san, francisco, bay, area, mezzanine
LOCATION:Mezzanine, San Francisco, California
WEBSITE:https://www.ticketfly.com/purchase/event/806473?utm_source=fus
 icology
URL:https://www.ticketfly.com/purchase/event/806473?utm_source=fusicol
 ogy
CONTACT:415.625.8880
ORGANIZER:Earshot Entertainment Presents
ATTACH;FMTTYPE="image/jpeg":http://storage.ning.com/topology/rest/1.0/
 file/get/2247975932?profile=original
ATTENDEE;ROLE=REQ-PARTICIPANT;PARTSTAT=ACCEPTED;RSVP=TRUE;CN=Mezzanine
 SF:https://trueskool.com/profile/MezzanineSF
END:VEVENT
END:VCALENDAR
