BEGIN:VCALENDAR
PRODID:NingEventWidget-v1
VERSION:2.0
METHOD:PUBLISH
BEGIN:VTIMEZONE
TZID:America/Los_Angeles
X-LIC-LOCATION:America/Los_Angeles
BEGIN:DAYLIGHT
TZOFFSETFROM:-0800
TZOFFSETTO:-0700
TZNAME:PDT
DTSTART:19700308T020000
RRULE:FREQ=YEARLY;BYMONTH=3;BYDAY=2SU
END:DAYLIGHT
BEGIN:STANDARD
TZOFFSETFROM:-0700
TZOFFSETTO:-0800
TZNAME:PST
DTSTART:19701101T020000
RRULE:FREQ=YEARLY;BYMONTH=11;BYDAY=1SU
END:STANDARD
END:VTIMEZONE
BEGIN:VEVENT
UID:1464587:Event:69869
DTSTAMP:20260420T200201Z
SUMMARY:QUEENDOM: Fly Ladies Reppin' the 4 Elements of Hip Hop
DESCRIPTION:DJ Zita & La Pena present\nQUEENDOM\nFly Ladies Reppin the
  4 Elements of Hip Hop\nSat November 13, 2010 @ La Pena\n\n...Since it
 s inception, Hip-Hop has spotlighted voices and movements of resistanc
 e. However, at times it has been used as a patriachal tool for oppress
 ion. QUEENDOM seeks to reverse that by placing women at the center of 
 this art form. Come check out our all female show as the ladies of hip
 -hop represent all 4 elements - graf writing, breakin', MCing & DJing 
 - as they always have.\n\n~DJs~\nLa Femme Deadly Venoms\nRaichous & Ro
 za of RRS Feed\nDJ Zita\nDJ Syrehn\n\n~MCs~\nAima the Dreamer\nHopie S
 pitshard\nHard Candy\n\n~B-Girls~\nMixd Ingrdnts\nBay Area B-Girls\n\n
 ~Artists~\nMariafatima Urbi\nplus Live Painting by Carmeli\n\nHosted B
 y: B.A.S.S./Bay Area Sistah Sound & SOTU/Sisterz of the Underground\n\
 n\n@ La Pena Berkeley\n3105 Shattuck @ Woolsey\nALL AGES, 9pm-1am\n$12
  General\n$10 Students w/ ID or Pre-Sale at: http://www.brownpapertick
 ets.com/event/135639\n\nBenefit for: Girls Inc. \"Inspiring all girls 
 to be strong, smart, and bold.\"\n\nhttp://djzita.com/\nhttp://lapena.
 org/\n\nFor more information visit https://trueskool.com/events/queend
 om-fly-ladies-reppin-the-1
DTSTART;TZID=America/Los_Angeles:20101113T210000
DTEND;TZID=America/Los_Angeles:20101113T234500
CATEGORIES:berkeley, ca
LOCATION:La Pena Cultural Center
WEBSITE:http://www.facebook.com/event.php?eid=155689261118475&num_even
 t_invites=0#!/event.php?eid=118705184856849
URL:http://www.facebook.com/event.php?eid=155689261118475&num_event_in
 vites=0#!/event.php?eid=118705184856849
CONTACT:
ORGANIZER;CN="Kat O1O":https://trueskool.com/profile/KatO1O
ATTACH;FMTTYPE="image/jpeg":http://storage.ning.com/topology/rest/1.0/
 file/get/2247885147?profile=original
ATTENDEE;ROLE=REQ-PARTICIPANT;PARTSTAT=ACCEPTED;RSVP=TRUE;CN="Kat O1O"
 :https://trueskool.com/profile/KatO1O
END:VEVENT
END:VCALENDAR
