BEGIN:VCALENDAR
PRODID:NingEventWidget-v1
VERSION:2.0
METHOD:PUBLISH
BEGIN:VTIMEZONE
TZID:America/Los_Angeles
X-LIC-LOCATION:America/Los_Angeles
BEGIN:DAYLIGHT
TZOFFSETFROM:-0800
TZOFFSETTO:-0700
TZNAME:PDT
DTSTART:19700308T020000
RRULE:FREQ=YEARLY;BYMONTH=3;BYDAY=2SU
END:DAYLIGHT
BEGIN:STANDARD
TZOFFSETFROM:-0700
TZOFFSETTO:-0800
TZNAME:PST
DTSTART:19701101T020000
RRULE:FREQ=YEARLY;BYMONTH=11;BYDAY=1SU
END:STANDARD
END:VTIMEZONE
BEGIN:VEVENT
UID:1464587:Event:41478
DTSTAMP:20260421T160429Z
SUMMARY:Queen Latifah (Show Cancelled)
DESCRIPTION:Show cancelled due to scheduling conflict with a new telev
 ision project.\n\n\nTUESDAY, NOVEMBER 3\nGoldenvoice presents\nQueen L
 atifah\n\n@ The Regency Ballroom, 1290 Sutter St., San Francisco, Show
  time: 8:00pm. Door time: 7:00pm. All Ages+.\n$39.50-$49.50*\nBuy Tick
 ets\n\nTicket contest powered by:\nhttp://www.trueskool.com\n\n\n\nFor
  more information visit https://trueskool.com/events/queen-latifah-sho
 w-cancelled
DTSTART;TZID=America/Los_Angeles:20091103T190000
DTEND;TZID=America/Los_Angeles:20091104T230000
CATEGORIES:soul, hip, hop, "r&b"
LOCATION:The Regency Ballroom, San Francisco, CA
WEBSITE:http://www.goldenvoice.com
URL:http://www.goldenvoice.com
CONTACT:
ORGANIZER:Golden Voice
ATTACH;FMTTYPE="image/jpeg":http://storage.ning.com/topology/rest/1.0/
 file/get/2247865933?profile=original
ATTENDEE;ROLE=REQ-PARTICIPANT;PARTSTAT=ACCEPTED;RSVP=TRUE;CN="Ren the 
 Vinyl Archaeologist":https://trueskool.com/profile/xh51jvilojur
ATTENDEE;ROLE=REQ-PARTICIPANT;PARTSTAT=TENTATIVE;RSVP=TRUE;CN=Celestia
 ldrmz:https://trueskool.com/profile/Celestialdrmz
END:VEVENT
END:VCALENDAR
