BEGIN:VCALENDAR
PRODID:NingEventWidget-v1
VERSION:2.0
METHOD:PUBLISH
BEGIN:VTIMEZONE
TZID:America/Los_Angeles
X-LIC-LOCATION:America/Los_Angeles
BEGIN:DAYLIGHT
TZOFFSETFROM:-0800
TZOFFSETTO:-0700
TZNAME:PDT
DTSTART:19700308T020000
RRULE:FREQ=YEARLY;BYMONTH=3;BYDAY=2SU
END:DAYLIGHT
BEGIN:STANDARD
TZOFFSETFROM:-0700
TZOFFSETTO:-0800
TZNAME:PST
DTSTART:19701101T020000
RRULE:FREQ=YEARLY;BYMONTH=11;BYDAY=1SU
END:STANDARD
END:VTIMEZONE
BEGIN:VEVENT
UID:1464587:Event:227528
DTSTAMP:20260421T134028Z
SUMMARY:QN5 MEGASHOW: CunninLynguists, Tonedeff, PackFM, Substanial & 
 Kokayi Details: Cunninlynguists, Tonedeff & PackFM, more... (NYC)
DESCRIPTION:\nAug  \n16\nFri\n\nB.B. King Blues Club and Grill New Yo
 rk, NY 09:00 PM\n\nQN5 MEGASHOW: CunninLynguists, Tonedeff, PackFM, Su
 bstanial & Kokayi Details: Cunninlynguists, Tonedeff & PackFM, more...
 \nFind Tickets »\n\n\n\n\nFor more information visit https://truesko
 ol.com/events/qn5-megashow-cunninlynguists-tonedeff-packfm-substanial-
 kokayi-de
DTSTART;TZID=America/Los_Angeles:20130816T210000
DTEND;TZID=America/Los_Angeles:20130816T230000
CATEGORIES:"new york", nyc
LOCATION:B.B. King Blues Club and Grill
WEBSITE:http://www.ticketmaster.com/qn5-megashow-cunninlynguists-toned
 eff-packfm-substanial-new-york-new-york-08-16-2013/event/00004AB499D16
 F62?artistid=1125475&majorcatid=10001&minorcatid=3&tm_link=artist_msg-
 0_00004AB499D16F62
URL:http://www.ticketmaster.com/qn5-megashow-cunninlynguists-tonedeff-
 packfm-substanial-new-york-new-york-08-16-2013/event/00004AB499D16F62?
 artistid=1125475&majorcatid=10001&minorcatid=3&tm_link=artist_msg-0_00
 004AB499D16F62
CONTACT:
ORGANIZER;CN="Editor's Pick":https://trueskool.com/profile/RentheVinyl
 Archaeologist
ATTACH;FMTTYPE="image/jpeg":http://storage.ning.com/topology/rest/1.0/
 file/get/2247945619?profile=original
ATTENDEE;ROLE=REQ-PARTICIPANT;PARTSTAT=ACCEPTED;RSVP=TRUE;CN="Editor's
  Pick":https://trueskool.com/profile/RentheVinylArchaeologist
END:VEVENT
END:VCALENDAR
