BEGIN:VCALENDAR
PRODID:NingEventWidget-v1
VERSION:2.0
METHOD:PUBLISH
BEGIN:VTIMEZONE
TZID:America/Los_Angeles
X-LIC-LOCATION:America/Los_Angeles
BEGIN:DAYLIGHT
TZOFFSETFROM:-0800
TZOFFSETTO:-0700
TZNAME:PDT
DTSTART:19700308T020000
RRULE:FREQ=YEARLY;BYMONTH=3;BYDAY=2SU
END:DAYLIGHT
BEGIN:STANDARD
TZOFFSETFROM:-0700
TZOFFSETTO:-0800
TZNAME:PST
DTSTART:19701101T020000
RRULE:FREQ=YEARLY;BYMONTH=11;BYDAY=1SU
END:STANDARD
END:VTIMEZONE
BEGIN:VEVENT
UID:1464587:Event:312327
DTSTAMP:20260421T005651Z
SUMMARY:Put On the Breaks - Breakbeat @ Mighty
DESCRIPTION:\nFREE before 12am w/ RSVP here-http://tinyurl.com/mywo5j5
 On Saturday, February 22nd, Mighty presents \"Put on the Breaks\" a tr
 ibute to breakbeat music featuring an all star lineup of SF's finest b
 reakbeat Djs. FREE before 12am with RSVP and open bar from 9pm-10pm. 
 Djs -Kapt N Kirk(Space Cowboys)Shissla (Space Cowboys)DJ Zach Moore (T
 he Armory Podcast/Space Cowboys)Nerd NateMelyss (Homebreakin Records)\
 n\n\n\n\nFor more information visit https://trueskool.com/events/put-o
 n-the-breaks-breakbeat-mighty
DTSTART;TZID=America/Los_Angeles:20140222T210000
DTEND;TZID=America/Los_Angeles:20140223T030000
CATEGORIES:san, francisco, california
LOCATION:Mighty, San Francisco
WEBSITE:https://www.eventbrite.com/e/put-on-the-breaks-breakbeat-might
 y-tickets-10547952209
URL:https://www.eventbrite.com/e/put-on-the-breaks-breakbeat-mighty-ti
 ckets-10547952209
CONTACT:
ORGANIZER:Mighty
ATTACH;FMTTYPE="image/jpeg":
ATTENDEE;ROLE=REQ-PARTICIPANT;PARTSTAT=ACCEPTED;RSVP=TRUE;CN="Alexandr
 a Alden":https://trueskool.com/profile/AlexandraAlden
END:VEVENT
END:VCALENDAR
