BEGIN:VCALENDAR
PRODID:NingEventWidget-v1
VERSION:2.0
METHOD:PUBLISH
BEGIN:VTIMEZONE
TZID:America/Los_Angeles
X-LIC-LOCATION:America/Los_Angeles
BEGIN:DAYLIGHT
TZOFFSETFROM:-0800
TZOFFSETTO:-0700
TZNAME:PDT
DTSTART:19700308T020000
RRULE:FREQ=YEARLY;BYMONTH=3;BYDAY=2SU
END:DAYLIGHT
BEGIN:STANDARD
TZOFFSETFROM:-0700
TZOFFSETTO:-0800
TZNAME:PST
DTSTART:19701101T020000
RRULE:FREQ=YEARLY;BYMONTH=11;BYDAY=1SU
END:STANDARD
END:VTIMEZONE
BEGIN:VEVENT
UID:1464587:Event:270900
DTSTAMP:20260421T093816Z
SUMMARY:Pusha T - Live in Sacramento: November 30th
DESCRIPTION:ENT LEGENDS PRESENTSPusha T - Live in SacramentoSaturday N
 ovember 30th, 2013Ace of Spades\n1417 R Street\nSacramento, CA 95814Do
 ors: 7:30 pm / Show: 8:00 pmPhysical Tickets can be purchased at Getta
  Clue StoreGetta Clue Store 545 Downtown Plaza Sacramento, Ca 95814$23
 \n\nFor more information visit https://trueskool.com/events/pusha-t-li
 ve-in-sacramento-november-30th
DTSTART;TZID=America/Los_Angeles:20131130T190000
DTEND;TZID=America/Los_Angeles:20131130T230000
CATEGORIES:sacramento, ca
LOCATION:Ace Of Spades, Sacramento, CA
WEBSITE:http://aceofspadessac.com/events/236573#GC
URL:http://aceofspadessac.com/events/236573#GC
CONTACT:
ORGANIZER;CN=entlegends:https://trueskool.com/profile/entlegends
ATTACH;FMTTYPE="image/jpeg":http://storage.ning.com/topology/rest/1.0/
 file/get/2247952409?profile=original
ATTENDEE;ROLE=REQ-PARTICIPANT;PARTSTAT=ACCEPTED;RSVP=TRUE;CN=entlegend
 s:https://trueskool.com/profile/entlegends
END:VEVENT
END:VCALENDAR
