BEGIN:VCALENDAR
PRODID:NingEventWidget-v1
VERSION:2.0
METHOD:PUBLISH
BEGIN:VTIMEZONE
TZID:America/Los_Angeles
X-LIC-LOCATION:America/Los_Angeles
BEGIN:DAYLIGHT
TZOFFSETFROM:-0800
TZOFFSETTO:-0700
TZNAME:PDT
DTSTART:19700308T020000
RRULE:FREQ=YEARLY;BYMONTH=3;BYDAY=2SU
END:DAYLIGHT
BEGIN:STANDARD
TZOFFSETFROM:-0700
TZOFFSETTO:-0800
TZNAME:PST
DTSTART:19701101T020000
RRULE:FREQ=YEARLY;BYMONTH=11;BYDAY=1SU
END:STANDARD
END:VTIMEZONE
BEGIN:VEVENT
UID:1464587:Event:679873
DTSTAMP:20260421T050555Z
SUMMARY:PUSHA T
DESCRIPTION:Pusha T with Phony Ppl, Bernard Jabs Thursday\r\nNovember 
 08, 2018 Thursday, November 8, 2018 Doors 7:00 p.m. // Show 8:00 p.m. 
 Tickets are $35.00 plus applicable charges.\r\nThe Fillmore 1805 Geary
  Blvd, San Francisco, CA 94115\n\nFor more information visit https://t
 rueskool.com/events/pusha-t-1
DTSTART;TZID=America/Los_Angeles:20181108T200000
DTEND;TZID=America/Los_Angeles:20181108T230000
CATEGORIES:"bay area", oakland, "san francisco", "san jose", berkeley
LOCATION:The Fillmore, SF
WEBSITE:https://www1.ticketmaster.com/event/1C005535CA06D74A?f_PPL=tru
 e&amp;ab=efeat5787v1
URL:https://www1.ticketmaster.com/event/1C005535CA06D74A?f_PPL=true&am
 p;ab=efeat5787v1
CONTACT:
ORGANIZER;CN="Editor's Pick":https://trueskool.com/profile/RentheVinyl
 Archaeologist
ATTACH;FMTTYPE="image/jpeg":http://storage.ning.com/topology/rest/1.0/
 file/get/2248011240?profile=original
ATTENDEE;ROLE=REQ-PARTICIPANT;PARTSTAT=ACCEPTED;RSVP=TRUE;CN="Editor's
  Pick":https://trueskool.com/profile/RentheVinylArchaeologist
END:VEVENT
END:VCALENDAR
