BEGIN:VCALENDAR
PRODID:NingEventWidget-v1
VERSION:2.0
METHOD:PUBLISH
BEGIN:VTIMEZONE
TZID:America/Los_Angeles
X-LIC-LOCATION:America/Los_Angeles
BEGIN:DAYLIGHT
TZOFFSETFROM:-0800
TZOFFSETTO:-0700
TZNAME:PDT
DTSTART:19700308T020000
RRULE:FREQ=YEARLY;BYMONTH=3;BYDAY=2SU
END:DAYLIGHT
BEGIN:STANDARD
TZOFFSETFROM:-0700
TZOFFSETTO:-0800
TZNAME:PST
DTSTART:19701101T020000
RRULE:FREQ=YEARLY;BYMONTH=11;BYDAY=1SU
END:STANDARD
END:VTIMEZONE
BEGIN:VEVENT
UID:1464587:Event:508666
DTSTAMP:20260421T113057Z
SUMMARY:Pure Love (House Music) feat. Cecil (thePeople), Dedan (Brothe
 rs & Sisters) & Renoir
DESCRIPTION:\nFRIDAY, JAN 23\nBerkeley Underground presents\nPure Love
 \nClassic 90s House Music + Afro/Latin House + more!\n \nFeaturing:\n
 Cecil (The People)\nDedan (Brothers and Sisters)\nRenoir (True Skoo
 l)\n \nBerkeley Underground, 2284 Shattuck Ave., Berkeley\n21+, 10pm-
 2am\n$10, FREE B4 11 w/ RSVP at https://pureloveberkeley.eventbrite.c
 om\n\n\nFor more information visit https://trueskool.com/events/pure-l
 ove-house-music-feat-cecil-thepeople-dedan-brothers-sisters
DTSTART;TZID=America/Los_Angeles:20150123T220000
DTEND;TZID=America/Los_Angeles:20150124T020000
CATEGORIES:"bay area", berkeley
LOCATION:Berkeley Underground, Berkeley, CA
WEBSITE:https://pureloveberkeley.eventbrite.com
URL:https://pureloveberkeley.eventbrite.com
CONTACT:
ORGANIZER:Berkeley Underground
ATTACH;FMTTYPE="image/jpeg":http://storage.ning.com/topology/rest/1.0/
 file/get/2247972116?profile=original
ATTENDEE;ROLE=REQ-PARTICIPANT;PARTSTAT=ACCEPTED;RSVP=TRUE;CN="Editor's
  Pick":https://trueskool.com/profile/RentheVinylArchaeologist
END:VEVENT
END:VCALENDAR
