BEGIN:VCALENDAR
PRODID:NingEventWidget-v1
VERSION:2.0
METHOD:PUBLISH
BEGIN:VTIMEZONE
TZID:America/Los_Angeles
X-LIC-LOCATION:America/Los_Angeles
BEGIN:DAYLIGHT
TZOFFSETFROM:-0800
TZOFFSETTO:-0700
TZNAME:PDT
DTSTART:19700308T020000
RRULE:FREQ=YEARLY;BYMONTH=3;BYDAY=2SU
END:DAYLIGHT
BEGIN:STANDARD
TZOFFSETFROM:-0700
TZOFFSETTO:-0800
TZNAME:PST
DTSTART:19701101T020000
RRULE:FREQ=YEARLY;BYMONTH=11;BYDAY=1SU
END:STANDARD
END:VTIMEZONE
BEGIN:VEVENT
UID:1464587:Event:232309
DTSTAMP:20260421T065735Z
SUMMARY:PUMA YARD SF - Weekend Kickoff
DESCRIPTION:PUMA YARD SF - Weekend Kickoff\nDub Mission DJs feat.\nSep
  (J-Boogie's Dubtronic Science/OM Records)\nJ-Boogie (J-Boogie's Dubt
 ronic Science/OM Records)\nFREE\nAll Ages\n\nFor more information visi
 t https://trueskool.com/events/puma-yard-sf-weekend-kickoff
DTSTART;TZID=America/Los_Angeles:20130810T140000
DTEND;TZID=America/Los_Angeles:20130810T180000
CATEGORIES:san, francisco, ca
LOCATION:Pier 27
WEBSITE:http://pumayardsf.com
URL:http://pumayardsf.com
CONTACT:
ORGANIZER;CN=sweeneykovar:https://trueskool.com/profile/sweeneykovar
ATTACH;FMTTYPE="image/jpeg":http://storage.ning.com/topology/rest/1.0/
 file/get/2247945992?profile=original
ATTENDEE;ROLE=REQ-PARTICIPANT;PARTSTAT=ACCEPTED;RSVP=TRUE;CN=sweeneyko
 var:https://trueskool.com/profile/sweeneykovar
END:VEVENT
END:VCALENDAR
