BEGIN:VCALENDAR
PRODID:NingEventWidget-v1
VERSION:2.0
METHOD:PUBLISH
BEGIN:VTIMEZONE
TZID:America/Los_Angeles
X-LIC-LOCATION:America/Los_Angeles
BEGIN:DAYLIGHT
TZOFFSETFROM:-0800
TZOFFSETTO:-0700
TZNAME:PDT
DTSTART:19700308T020000
RRULE:FREQ=YEARLY;BYMONTH=3;BYDAY=2SU
END:DAYLIGHT
BEGIN:STANDARD
TZOFFSETFROM:-0700
TZOFFSETTO:-0800
TZNAME:PST
DTSTART:19701101T020000
RRULE:FREQ=YEARLY;BYMONTH=11;BYDAY=1SU
END:STANDARD
END:VTIMEZONE
BEGIN:VEVENT
UID:1464587:Event:233537
DTSTAMP:20260421T034647Z
SUMMARY:PUMA YARD SF - Weekend Kick Off w/ Manic Monday DJs
DESCRIPTION:PUMA YARD SF\nWeekend Kickoff w/ Manic Monday DJs\nMei-Lwu
 n (ManicMondays.com)\nRy Toast (She Wolves/Baby Paw)\n4pm - 8pm\nFREE\
 nAll Ages\n\nFor more information visit https://trueskool.com/events/p
 uma-yard-sf-weekend-kick-off-w-manic-monday-djs
DTSTART;TZID=America/Los_Angeles:20130816T160000
DTEND;TZID=America/Los_Angeles:20130816T200000
CATEGORIES:san, francisco, ca
LOCATION:Pier 27
WEBSITE:http://pumayardsf.com
URL:http://pumayardsf.com
CONTACT:
ORGANIZER;CN=sweeneykovar:https://trueskool.com/profile/sweeneykovar
ATTACH;FMTTYPE="image/jpeg":http://storage.ning.com/topology/rest/1.0/
 file/get/2247945632?profile=original
ATTENDEE;ROLE=REQ-PARTICIPANT;PARTSTAT=ACCEPTED;RSVP=TRUE;CN=sweeneyko
 var:https://trueskool.com/profile/sweeneykovar
END:VEVENT
END:VCALENDAR
