BEGIN:VCALENDAR
PRODID:NingEventWidget-v1
VERSION:2.0
METHOD:PUBLISH
BEGIN:VTIMEZONE
TZID:America/Los_Angeles
X-LIC-LOCATION:America/Los_Angeles
BEGIN:DAYLIGHT
TZOFFSETFROM:-0800
TZOFFSETTO:-0700
TZNAME:PDT
DTSTART:19700308T020000
RRULE:FREQ=YEARLY;BYMONTH=3;BYDAY=2SU
END:DAYLIGHT
BEGIN:STANDARD
TZOFFSETFROM:-0700
TZOFFSETTO:-0800
TZNAME:PST
DTSTART:19701101T020000
RRULE:FREQ=YEARLY;BYMONTH=11;BYDAY=1SU
END:STANDARD
END:VTIMEZONE
BEGIN:VEVENT
UID:1464587:Event:239397
DTSTAMP:20260421T083746Z
SUMMARY:PUMA YARD SF - Day Party w/ Motown On Mondays
DESCRIPTION:PUMA YARD SF - Day Party\nMotown On Mondays DJ Gordo Cabe
 za DJ Timoteo Gigante\nFREE\nAll Ages\n12 - 4pm\n\nFor more informati
 on visit https://trueskool.com/events/puma-yard-sf-day-party-w-motown-
 on-mondays
DTSTART;TZID=America/Los_Angeles:20130901T120000
DTEND;TZID=America/Los_Angeles:20130901T160000
CATEGORIES:san, francisco, ca
LOCATION:Pier 27
WEBSITE:http://pumayardsf.com
URL:http://pumayardsf.com
CONTACT:
ORGANIZER;CN=sweeneykovar:https://trueskool.com/profile/sweeneykovar
ATTACH;FMTTYPE="image/jpeg":http://storage.ning.com/topology/rest/1.0/
 file/get/2247949263?profile=original
ATTENDEE;ROLE=REQ-PARTICIPANT;PARTSTAT=ACCEPTED;RSVP=TRUE;CN=sweeneyko
 var:https://trueskool.com/profile/sweeneykovar
END:VEVENT
END:VCALENDAR
