BEGIN:VCALENDAR
PRODID:NingEventWidget-v1
VERSION:2.0
METHOD:PUBLISH
BEGIN:VTIMEZONE
TZID:America/Los_Angeles
X-LIC-LOCATION:America/Los_Angeles
BEGIN:DAYLIGHT
TZOFFSETFROM:-0800
TZOFFSETTO:-0700
TZNAME:PDT
DTSTART:19700308T020000
RRULE:FREQ=YEARLY;BYMONTH=3;BYDAY=2SU
END:DAYLIGHT
BEGIN:STANDARD
TZOFFSETFROM:-0700
TZOFFSETTO:-0800
TZNAME:PST
DTSTART:19701101T020000
RRULE:FREQ=YEARLY;BYMONTH=11;BYDAY=1SU
END:STANDARD
END:VTIMEZONE
BEGIN:VEVENT
UID:1464587:Event:42353
DTSTAMP:20260421T033139Z
SUMMARY:Pulse of the Green feat. dead prez, Speech (Arrested Developme
 nt), Davey D... (WIN TICKETS)
DESCRIPTION:WIN A PAIR OF TICKETS. Send your FULL NAME to trueskoolcon
 test@gmail.com with \"dead prez\" in the Subject Line. Winner will be 
 drawn randomly and announced on Friday (11/13) at 4pm.\n\n\nSUNDAY, NO
 VEMBER 15\nCommunitree, Art in Action, Grind for the Green, Cyphertown
  & Global Exchange present\nPULSE OF THE GREEN\nSunday Night's Officia
 l Green Fest After-Party. Benefit for CommuniTree/Art in Action & Oakl
 and's Green Youth Arts & Media Center.\n\nFeaturing:\ndead prez & Spee
 ch (of Arrested Development)\nAudiopharmacy\nJ-Boogie\nDavey D\nDJ Sak
 e 1\nWisdom\nplus many more...\n\n@ 1015, 1015 Folsom, San Francisco\n
 8am-4am. 21+. $15 PRESALE TIX AVAILABLE\nInfo: http://www.communitree.
 net\n\n\n\n\n\nFor more information visit https://trueskool.com/events
 /pulse-of-the-green-feat-dead
DTSTART;TZID=America/Los_Angeles:20091115T200000
DTEND;TZID=America/Los_Angeles:20091116T040000
CATEGORIES:hip, hop, benefit, non, profit, green, eco
LOCATION:1015 Folsom, San Francisco, CA
WEBSITE:http://www.communitree.net
URL:http://www.communitree.net
CONTACT:
ORGANIZER:Communitree, Art In Action, Cyphertown, Global Exchange
ATTACH;FMTTYPE="image/jpeg":http://storage.ning.com/topology/rest/1.0/
 file/get/2247869367?profile=original
ATTENDEE;ROLE=REQ-PARTICIPANT;PARTSTAT=ACCEPTED;RSVP=TRUE;CN="Communit
 y Roots":https://trueskool.com/profile/CommunityRoots
ATTENDEE;ROLE=REQ-PARTICIPANT;PARTSTAT=ACCEPTED;RSVP=TRUE;CN="Ren the 
 Vinyl Archaeologist":https://trueskool.com/profile/xh51jvilojur
END:VEVENT
END:VCALENDAR
