BEGIN:VCALENDAR
PRODID:NingEventWidget-v1
VERSION:2.0
METHOD:PUBLISH
BEGIN:VTIMEZONE
TZID:America/Los_Angeles
X-LIC-LOCATION:America/Los_Angeles
BEGIN:DAYLIGHT
TZOFFSETFROM:-0800
TZOFFSETTO:-0700
TZNAME:PDT
DTSTART:19700308T020000
RRULE:FREQ=YEARLY;BYMONTH=3;BYDAY=2SU
END:DAYLIGHT
BEGIN:STANDARD
TZOFFSETFROM:-0700
TZOFFSETTO:-0800
TZNAME:PST
DTSTART:19701101T020000
RRULE:FREQ=YEARLY;BYMONTH=11;BYDAY=1SU
END:STANDARD
END:VTIMEZONE
BEGIN:VEVENT
UID:1464587:Event:38595
DTSTAMP:20260420T213041Z
SUMMARY:Psychedelic Radio
DESCRIPTION:In The Dark Room,\nShiftless Records Presents:\nPsychedeli
 c Radio\nOSC\nLukieno\n& Ax!om\nNTRLD\nMegalodon\nPhleck\n& Napsty\n\n
 \nPrice $5 before 11pm\nTime 9pm-2am\nMusic Dubstep, Reggae, Electro\n
 \nFor more information visit https://trueskool.com/events/psychedelic-
 radio
DTSTART;TZID=America/Los_Angeles:20090822T210000
DTEND;TZID=America/Los_Angeles:20090823T030000
CATEGORIES:dubstep, reggae, electro
LOCATION:Club Six, San Francisco, CA
WEBSITE:http://www.clubsix1.com
URL:http://www.clubsix1.com
CONTACT:415-531-6593
ORGANIZER:Angel
ATTACH;FMTTYPE="image/jpeg":
ATTENDEE;ROLE=REQ-PARTICIPANT;PARTSTAT=ACCEPTED;RSVP=TRUE;CN=Cecily:ht
 tps://trueskool.com/profile/Cecily
END:VEVENT
END:VCALENDAR
