BEGIN:VCALENDAR
PRODID:NingEventWidget-v1
VERSION:2.0
METHOD:PUBLISH
BEGIN:VTIMEZONE
TZID:America/Los_Angeles
X-LIC-LOCATION:America/Los_Angeles
BEGIN:DAYLIGHT
TZOFFSETFROM:-0800
TZOFFSETTO:-0700
TZNAME:PDT
DTSTART:19700308T020000
RRULE:FREQ=YEARLY;BYMONTH=3;BYDAY=2SU
END:DAYLIGHT
BEGIN:STANDARD
TZOFFSETFROM:-0700
TZOFFSETTO:-0800
TZNAME:PST
DTSTART:19701101T020000
RRULE:FREQ=YEARLY;BYMONTH=11;BYDAY=1SU
END:STANDARD
END:VTIMEZONE
BEGIN:VEVENT
UID:1464587:Event:32045
DTSTAMP:20260420T211818Z
SUMMARY:Psychadelic Radio
DESCRIPTION:In The Dark Room,\nShiftless Records Present:\nPsychadelic
  Radio\nThe Anti-Serum\nDJUNYA\nRipple\nBoggle\nLukeino\nPhleck\nNtrld
  vs Megalodon\n\nMC's\nSupa13 & Defeye\n\n\nPrice $10\nTime 9pm-2am\nM
 usic Dub, Dubstep, Glitch\n\nFor more information visit https://truesk
 ool.com/events/psychadelic-radio
DTSTART;TZID=America/Los_Angeles:20090522T210000
DTEND;TZID=America/Los_Angeles:20090523T150000
CATEGORIES:dubstep, dub, glitch
LOCATION:Club Six Dark Room, San Francisco, CA
WEBSITE:http://www.clubsix1.com
URL:http://www.clubsix1.com
CONTACT:415-531-6593
ORGANIZER:Angel
ATTACH;FMTTYPE="image/jpeg":http://storage.ning.com/topology/rest/1.0/
 file/get/2247856788?profile=original
ATTENDEE;ROLE=REQ-PARTICIPANT;PARTSTAT=ACCEPTED;RSVP=TRUE;CN=Cecily:ht
 tps://trueskool.com/profile/Cecily
END:VEVENT
END:VCALENDAR
