BEGIN:VCALENDAR
PRODID:NingEventWidget-v1
VERSION:2.0
METHOD:PUBLISH
BEGIN:VTIMEZONE
TZID:America/Los_Angeles
X-LIC-LOCATION:America/Los_Angeles
BEGIN:DAYLIGHT
TZOFFSETFROM:-0800
TZOFFSETTO:-0700
TZNAME:PDT
DTSTART:19700308T020000
RRULE:FREQ=YEARLY;BYMONTH=3;BYDAY=2SU
END:DAYLIGHT
BEGIN:STANDARD
TZOFFSETFROM:-0700
TZOFFSETTO:-0800
TZNAME:PST
DTSTART:19701101T020000
RRULE:FREQ=YEARLY;BYMONTH=11;BYDAY=1SU
END:STANDARD
END:VTIMEZONE
BEGIN:VEVENT
UID:1464587:Event:38900
DTSTAMP:20260421T004103Z
SUMMARY:PST SPECIAL EDITION: DJ ?UESTLOVE x DJ HOUSE SHOES | PHILLY ME
 ETS DETROIT
DESCRIPTION:\n\nPacific Standard Time proudly reps the West Coast, but
  more than anything stands for musical innovation from ALL points on t
 he map, west and east, north and south.\n\nTwo of the most important m
 usical cities of the past 30 years will be repped to the highest level
  this Tuesday night at PST. Philadelphia, which has given us not only 
 the disco innovations of Gamble and Huff, The Sound of Philadelphia (T
 SOP), and the foundation of the Neosoul movement of the early 2000s bu
 t drummer/producer Ahmir \"Questlove\" Thompson whose band the Roots h
 ave spawned an entire musical movement of their own; and Detroit, wher
 e techno music was birthed, electronic music of all forms was pushed f
 orward by leaps and bounds, and where a young producer named J Dilla r
 escued hip-hop from the throes of commercial irrelevance in the late 1
 990s.\n\nPerhaps no two people better symbolize their cities than DJ ?
 uestlove and DJ House Shoes, who has gone from J Dilla friend and coll
 aborator to worldwide ambassador for Detroit hip-hop. Having either of
  them on set to spin for us in the Bay Area is a special occasion; hav
 ing both of them on the same night is HISTORICAL.\n\nDon't miss this o
 nce-in-a-lifetime party with two certified Master Jedis playing music 
 that no one else in the world has, in a way that no one else can. Rese
 rve yourself a spot on the dance floor now!!\n\nhttp://sanfrancisco.go
 ing.com/event-649367;Philly_Meets_Detroit_feat_uestlove_Houseshoes\n\n
 Host:\nAnkh Marketing, 330 Ritch & Souldeluxxe Snd, LLC\nType:\nParty 
 - Night of Mayhem\nNetwork:\nGlobal\nPrice:\nPresale discount tickets 
 available via GOING.COM (address above)\nStart Time:\nTuesday, August 
 25, 2009 at 9:00pm\nEnd Time:\nWednesday, August 26, 2009 at 2:00am\nL
 ocation:\n330 Ritch Nightclub, 330 Ritch Street\nSan Francisco, CA\n\n
 Email:\npacificstandardtime@hotmail.com\n\nFor more information visit 
 https://trueskool.com/events/pst-special-edition-dj
DTSTART;TZID=America/Los_Angeles:20090825T210000
DTEND;TZID=America/Los_Angeles:20090827T020000
CATEGORIES:hip, hop
LOCATION:Icon Ultra Lounge, San Francisco
WEBSITE:http://sanfrancisco.going.com/event-649367;Philly_Meets_Detroi
 t_feat_uestlove_Houseshoes
URL:http://sanfrancisco.going.com/event-649367;Philly_Meets_Detroit_fe
 at_uestlove_Houseshoes
CONTACT:
ORGANIZER:Ankh Marketing, 330 Ritch & Souldeluxxe Snd, LLC
ATTACH;FMTTYPE="image/jpeg":http://storage.ning.com/topology/rest/1.0/
 file/get/2106898034?profile=original
ATTENDEE;ROLE=REQ-PARTICIPANT;PARTSTAT=ACCEPTED;RSVP=TRUE;CN="Ren the 
 Vinyl Archaeologist":https://trueskool.com/profile/xh51jvilojur
END:VEVENT
END:VCALENDAR
