BEGIN:VCALENDAR
PRODID:NingEventWidget-v1
VERSION:2.0
METHOD:PUBLISH
BEGIN:VTIMEZONE
TZID:America/Los_Angeles
X-LIC-LOCATION:America/Los_Angeles
BEGIN:DAYLIGHT
TZOFFSETFROM:-0800
TZOFFSETTO:-0700
TZNAME:PDT
DTSTART:19700308T020000
RRULE:FREQ=YEARLY;BYMONTH=3;BYDAY=2SU
END:DAYLIGHT
BEGIN:STANDARD
TZOFFSETFROM:-0700
TZOFFSETTO:-0800
TZNAME:PST
DTSTART:19701101T020000
RRULE:FREQ=YEARLY;BYMONTH=11;BYDAY=1SU
END:STANDARD
END:VTIMEZONE
BEGIN:VEVENT
UID:1464587:Event:33957
DTSTAMP:20260422T140714Z
SUMMARY:PST Real Time Soul Series w/ Jaguar Wright, Brooklyn Red & Pet
 er Hadar
DESCRIPTION:\n\nPST Real Time Soul Series Continues again next tuesday
  as we have a tremendous amount of talent in the house.. Philadelphia 
 Native and Legendary Soulstress Jaguar Wright will be in the house hos
 ting the nite and possibly blessing us with a few joints as she welcom
 es up & coming soul sensations Brooklyn Red & Peter Hadar to PST for s
 ome classic live performances as always @ PST! Brooklyn Red (www.myspa
 ce.com/bigbrooklynred) & Peter Hadar (www.myspace.com/peterhadar) both
  embody and represent the type of vibe PST is trying to bring to the g
 ame and we urge you to be in the house that nite to check them out!!\n
 +\nAlso celebrating the release of the INCREDIBLE new Zap Mama CD, ReC
 reation with an early listening party from 10-11pm with free CD giveaw
 ays! We are also hyped to celebrate the Zap Mama show at BIMBO'S in SF
  on Thursday, June 18! TICKETS ARE STILL AVAILABLE.. - if you haven't 
 seen Zap Mama live, your life is not complete!!\n\nPre-Sale Tickets ar
 e available @\n\nWWW.GOING.COM/PSTSOULSERIES\n\n\n\nFor more informati
 on visit https://trueskool.com/events/pst-real-time-soul-series-w
DTSTART;TZID=America/Los_Angeles:20090616T220000
DTEND;TZID=America/Los_Angeles:20090617T020000
CATEGORIES:soul, "r&b", hip, hop
LOCATION:330 Ritch, San Francisco, CA
WEBSITE:HTTP://WWW.GOING.COM/PSTSOULSERIES
URL:HTTP://WWW.GOING.COM/PSTSOULSERIES
CONTACT:
ORGANIZER:Ankh Marketing, Souldeluxxe & Local 1200
ATTACH;FMTTYPE="image/jpeg":http://storage.ning.com/topology/rest/1.0/
 file/get/2247858458?profile=original
ATTENDEE;ROLE=REQ-PARTICIPANT;PARTSTAT=ACCEPTED;RSVP=TRUE;CN="Ren the 
 Vinyl Archaeologist":https://trueskool.com/profile/xh51jvilojur
END:VEVENT
END:VCALENDAR
