BEGIN:VCALENDAR
PRODID:NingEventWidget-v1
VERSION:2.0
METHOD:PUBLISH
BEGIN:VTIMEZONE
TZID:America/Los_Angeles
X-LIC-LOCATION:America/Los_Angeles
BEGIN:DAYLIGHT
TZOFFSETFROM:-0800
TZOFFSETTO:-0700
TZNAME:PDT
DTSTART:19700308T020000
RRULE:FREQ=YEARLY;BYMONTH=3;BYDAY=2SU
END:DAYLIGHT
BEGIN:STANDARD
TZOFFSETFROM:-0700
TZOFFSETTO:-0800
TZNAME:PST
DTSTART:19701101T020000
RRULE:FREQ=YEARLY;BYMONTH=11;BYDAY=1SU
END:STANDARD
END:VTIMEZONE
BEGIN:VEVENT
UID:1464587:Event:33970
DTSTAMP:20260423T083834Z
SUMMARY:PST Real Time Series feat. Wale
DESCRIPTION:\n\nTuesday June 23rd PST Real Time Series continues with 
 an extra special guest, WALE will be in the house Performing Live!! Co
 ming off his extremely successful debut project & a huge buzz building
  for his new single \"Chillin\" with Lady Gaga... Wale always comes wi
 th one of the dopest live performances in Hip-Hop and will fit right i
 n among the best of the best to grace the stage at PST!! Be sure not t
 o miss Wale Live @ PST June 23rd..\n+\nDJ JAYCEEOH Spinning\n\nLimited
  Discounted Pre-Sale Tickets are available @\nWWW.GOING.COM/WALE\n\n\n
 As usual The Local 1200 and Ankh Marketing crews will be in the buildi
 ng, and your party rockin leader Sake One will facilitate vibration el
 evation from the turntables!!\n\nFor more information visit https://tr
 ueskool.com/events/pst-real-time-series-feat-wale
DTSTART;TZID=America/Los_Angeles:20090623T220000
DTEND;TZID=America/Los_Angeles:20090624T020000
CATEGORIES:hip, hop, soul, "r&b"
LOCATION:330 Ritch, San Francisco, CA
WEBSITE:HTTP://WWW.GOING.COM/WALE
URL:HTTP://WWW.GOING.COM/WALE
CONTACT:
ORGANIZER:Ankh Marketing, Souldeluxxe & Local 1200
ATTACH;FMTTYPE="image/jpeg":http://storage.ning.com/topology/rest/1.0/
 file/get/2247853529?profile=original
ATTENDEE;ROLE=REQ-PARTICIPANT;PARTSTAT=ACCEPTED;RSVP=TRUE;CN="Ren the 
 Vinyl Archaeologist":https://trueskool.com/profile/xh51jvilojur
END:VEVENT
END:VCALENDAR
