BEGIN:VCALENDAR
PRODID:NingEventWidget-v1
VERSION:2.0
METHOD:PUBLISH
BEGIN:VTIMEZONE
TZID:America/Los_Angeles
X-LIC-LOCATION:America/Los_Angeles
BEGIN:DAYLIGHT
TZOFFSETFROM:-0800
TZOFFSETTO:-0700
TZNAME:PDT
DTSTART:19700308T020000
RRULE:FREQ=YEARLY;BYMONTH=3;BYDAY=2SU
END:DAYLIGHT
BEGIN:STANDARD
TZOFFSETFROM:-0700
TZOFFSETTO:-0800
TZNAME:PST
DTSTART:19701101T020000
RRULE:FREQ=YEARLY;BYMONTH=11;BYDAY=1SU
END:STANDARD
END:VTIMEZONE
BEGIN:VEVENT
UID:1464587:Event:32483
DTSTAMP:20260421T080439Z
SUMMARY:Prom Queen/Comic Book Super Hero Tour
DESCRIPTION:Moe Green, Rocchilds and CU Next Weekend for the last date
  of Prom Queen/Comic Book Super Hero Tour.\n\nFor more information vis
 it https://trueskool.com/events/prom-queencomic-book-super-1
DTSTART;TZID=America/Los_Angeles:20090602T210000
DTEND;TZID=America/Los_Angeles:20090603T020000
CATEGORIES:rock, hip, hop, emo, alternative
LOCATION:Elbo Room, San Francisco, CA
WEBSITE:http://www.elbo.com
URL:http://www.elbo.com
CONTACT:415-552-7788
ORGANIZER;CN=CUNextWeekend:https://trueskool.com/profile/UrbanSky
ATTACH;FMTTYPE="image/jpeg":http://storage.ning.com/topology/rest/1.0/
 file/get/2247858176?profile=original
ATTENDEE;ROLE=REQ-PARTICIPANT;PARTSTAT=ACCEPTED;RSVP=TRUE;CN=CUNextWee
 kend:https://trueskool.com/profile/UrbanSky
END:VEVENT
END:VCALENDAR
