BEGIN:VCALENDAR
PRODID:NingEventWidget-v1
VERSION:2.0
METHOD:PUBLISH
BEGIN:VTIMEZONE
TZID:America/Los_Angeles
X-LIC-LOCATION:America/Los_Angeles
BEGIN:DAYLIGHT
TZOFFSETFROM:-0800
TZOFFSETTO:-0700
TZNAME:PDT
DTSTART:19700308T020000
RRULE:FREQ=YEARLY;BYMONTH=3;BYDAY=2SU
END:DAYLIGHT
BEGIN:STANDARD
TZOFFSETFROM:-0700
TZOFFSETTO:-0800
TZNAME:PST
DTSTART:19701101T020000
RRULE:FREQ=YEARLY;BYMONTH=11;BYDAY=1SU
END:STANDARD
END:VTIMEZONE
BEGIN:VEVENT
UID:1464587:Event:674387
DTSTAMP:20260422T223405Z
SUMMARY:PRINCESS NOKIA
DESCRIPTION:PRINCESS NOKIA\r\nQing Qi (live), Aux Cord (APF), The Cand
 y Rain, Chulita Vinyl Club, Sounds by Arturo\r\nFriday, April 20, 2018
  Doors: 10:00PM |Show: 9:00PM\r\n1015 Folsom St San Francisco, CA 9410
 3 (415) 431-1200 1015 FOLSOM\n\nFor more information visit https://tru
 eskool.com/events/princess-nokia
DTSTART;TZID=America/Los_Angeles:20180420T210000
DTEND;TZID=America/Los_Angeles:20180420T230000
CATEGORIES:"bay area", oakland, "san francisco", "san jose", berkeley
LOCATION:1015 Folsom, San Francisco
WEBSITE:https://www.eventbrite.com/e/princess-nokia-live-at-1015-folso
 m-tickets-43671810561
URL:https://www.eventbrite.com/e/princess-nokia-live-at-1015-folsom-ti
 ckets-43671810561
CONTACT:
ORGANIZER;CN="Editor's Pick":https://trueskool.com/profile/RentheVinyl
 Archaeologist
ATTACH;FMTTYPE="image/jpeg":http://storage.ning.com/topology/rest/1.0/
 file/get/2248008074?profile=original
ATTENDEE;ROLE=REQ-PARTICIPANT;PARTSTAT=ACCEPTED;RSVP=TRUE;CN="Editor's
  Pick":https://trueskool.com/profile/RentheVinylArchaeologist
END:VEVENT
END:VCALENDAR
