BEGIN:VCALENDAR
PRODID:NingEventWidget-v1
VERSION:2.0
METHOD:PUBLISH
BEGIN:VTIMEZONE
TZID:America/Los_Angeles
X-LIC-LOCATION:America/Los_Angeles
BEGIN:DAYLIGHT
TZOFFSETFROM:-0800
TZOFFSETTO:-0700
TZNAME:PDT
DTSTART:19700308T020000
RRULE:FREQ=YEARLY;BYMONTH=3;BYDAY=2SU
END:DAYLIGHT
BEGIN:STANDARD
TZOFFSETFROM:-0700
TZOFFSETTO:-0800
TZNAME:PST
DTSTART:19701101T020000
RRULE:FREQ=YEARLY;BYMONTH=11;BYDAY=1SU
END:STANDARD
END:VTIMEZONE
BEGIN:VEVENT
UID:1464587:Event:667109
DTSTAMP:20260421T035726Z
SUMMARY:Prince Paul (WIN TICKETS)
DESCRIPTION:ENTER TO WIN A PAIR OF TICKETS. WINNER WILL BE DRAWN RANDO
 MLY AND ANNOUNCED 2 DAYS PRIOR TO EVENT.\r\n\r\nMonday, September 18 
  Prince Paul in SF\r\nwith Rap Noir, Z-Man, Melina Jones\r\n\r\nElbo R
 oom 647 Valencia St, San Francisco 9 PM - 1 AM\r\n>> BUY TICKETS\r\n\n
 \nFor more information visit https://trueskool.com/events/prince-paul
DTSTART;TZID=America/Los_Angeles:20170918T210000
DTEND;TZID=America/Los_Angeles:20170919T010000
CATEGORIES:"san francisco", oakland, berkley, "san jose", "bay area"
LOCATION:Elbo Room, San Francisco
WEBSITE:https://www.eventbrite.com/e/prince-paul-in-sf-tickets-3776634
 2146?aff=efbeventtix
URL:https://www.eventbrite.com/e/prince-paul-in-sf-tickets-37766342146
 ?aff=efbeventtix
CONTACT:
ORGANIZER;CN="Editor's Pick":https://trueskool.com/profile/RentheVinyl
 Archaeologist
ATTACH;FMTTYPE="image/jpeg":http://storage.ning.com/topology/rest/1.0/
 file/get/2059300522?profile=original
ATTENDEE;ROLE=REQ-PARTICIPANT;PARTSTAT=ACCEPTED;RSVP=TRUE;CN="Editor's
  Pick":https://trueskool.com/profile/RentheVinylArchaeologist
END:VEVENT
END:VCALENDAR
