BEGIN:VCALENDAR
PRODID:NingEventWidget-v1
VERSION:2.0
METHOD:PUBLISH
BEGIN:VTIMEZONE
TZID:America/Los_Angeles
X-LIC-LOCATION:America/Los_Angeles
BEGIN:DAYLIGHT
TZOFFSETFROM:-0800
TZOFFSETTO:-0700
TZNAME:PDT
DTSTART:19700308T020000
RRULE:FREQ=YEARLY;BYMONTH=3;BYDAY=2SU
END:DAYLIGHT
BEGIN:STANDARD
TZOFFSETFROM:-0700
TZOFFSETTO:-0800
TZNAME:PST
DTSTART:19701101T020000
RRULE:FREQ=YEARLY;BYMONTH=11;BYDAY=1SU
END:STANDARD
END:VTIMEZONE
BEGIN:VEVENT
UID:1464587:Event:34861
DTSTAMP:20260423T193338Z
SUMMARY:Prince Paul / Nicole Wray
DESCRIPTION:\n\n\n\n\n\n\n\n\n\n\n\n\n\n\n\n\n\n\n\nFor more informati
 on visit https://trueskool.com/events/prince-paul-nicole-wray
DTSTART;TZID=America/Los_Angeles:20090630T220000
DTEND;TZID=America/Los_Angeles:20090701T020000
CATEGORIES:hip, hop, soul
LOCATION:330 Ritch, San Francisco
WEBSITE:http://www.true-skool.org
URL:http://www.true-skool.org
CONTACT:
ORGANIZER:Ankh Marketing, Souldeluxxe and Local 1200
ATTACH;FMTTYPE="image/jpeg":http://storage.ning.com/topology/rest/1.0/
 file/get/2247857996?profile=original
ATTENDEE;ROLE=REQ-PARTICIPANT;PARTSTAT=ACCEPTED;RSVP=TRUE;CN="Ren the 
 Vinyl Archaeologist":https://trueskool.com/profile/xh51jvilojur
ATTENDEE;ROLE=REQ-PARTICIPANT;PARTSTAT=TENTATIVE;RSVP=TRUE;CN=Celestia
 ldrmz:https://trueskool.com/profile/Celestialdrmz
END:VEVENT
END:VCALENDAR
