BEGIN:VCALENDAR
PRODID:NingEventWidget-v1
VERSION:2.0
METHOD:PUBLISH
BEGIN:VTIMEZONE
TZID:America/Los_Angeles
X-LIC-LOCATION:America/Los_Angeles
BEGIN:DAYLIGHT
TZOFFSETFROM:-0800
TZOFFSETTO:-0700
TZNAME:PDT
DTSTART:19700308T020000
RRULE:FREQ=YEARLY;BYMONTH=3;BYDAY=2SU
END:DAYLIGHT
BEGIN:STANDARD
TZOFFSETFROM:-0700
TZOFFSETTO:-0800
TZNAME:PST
DTSTART:19701101T020000
RRULE:FREQ=YEARLY;BYMONTH=11;BYDAY=1SU
END:STANDARD
END:VTIMEZONE
BEGIN:VEVENT
UID:1464587:Event:650460
DTSTAMP:20260421T160332Z
SUMMARY:Prince and Michael Jackson Experience
DESCRIPTION:The Prince and Michael Jackson Experience with DJ Dave Pau
 l playing album cuts, b-sides, un-released tracks, remixes, 12\" versi
 ons and the hits from the two artists as well as songs by ancillary ac
 ts. Advance tickets at http://tix611pm.eventbrite.com/  Neck of the W
 oods 406 Clement Street - San Francisco, CA 94118 9:00pm - 1:30am / $1
 0 / 21+  Collectively, Prince and Michael Jackson helped define the ea
 rly-'80s era of MTV, revolutionized both R&B and popular music, and in
 fluenced thousands of musicians worldwide. This party pays tribute to 
 two of the greatest artists of our time.\n\nFor more information visit
  https://trueskool.com/events/prince-and-michael-jackson-experience-1
DTSTART;TZID=America/Los_Angeles:20160611T210000
DTEND;TZID=America/Los_Angeles:20160612T013000
CATEGORIES:san, francisco
LOCATION:Neck of the Woods, Sam Francisco
WEBSITE:https://www.facebook.com/events/587971448025202/
URL:https://www.facebook.com/events/587971448025202/
CONTACT:
ORGANIZER;CN="Dave Paul":https://trueskool.com/profile/DavePaul
ATTACH;FMTTYPE="image/jpeg":http://storage.ning.com/topology/rest/1.0/
 file/get/2247989581?profile=original
ATTENDEE;ROLE=REQ-PARTICIPANT;PARTSTAT=ACCEPTED;RSVP=TRUE;CN="Dave Pau
 l":https://trueskool.com/profile/DavePaul
END:VEVENT
END:VCALENDAR
