BEGIN:VCALENDAR
PRODID:NingEventWidget-v1
VERSION:2.0
METHOD:PUBLISH
BEGIN:VTIMEZONE
TZID:America/Los_Angeles
X-LIC-LOCATION:America/Los_Angeles
BEGIN:DAYLIGHT
TZOFFSETFROM:-0800
TZOFFSETTO:-0700
TZNAME:PDT
DTSTART:19700308T020000
RRULE:FREQ=YEARLY;BYMONTH=3;BYDAY=2SU
END:DAYLIGHT
BEGIN:STANDARD
TZOFFSETFROM:-0700
TZOFFSETTO:-0800
TZNAME:PST
DTSTART:19701101T020000
RRULE:FREQ=YEARLY;BYMONTH=11;BYDAY=1SU
END:STANDARD
END:VTIMEZONE
BEGIN:VEVENT
UID:1464587:Event:830507
DTSTAMP:20260423T191642Z
SUMMARY:PREZIDENT BROWN WITH DJ SEP All Ages 9pm $25
DESCRIPTION:WINTICKETS to  PREZIDENT BROWN WITH DJ SEP All Ages FRI
 DAY, JULY 12, 2024 Doors: 8pm Show: 9pm $25 Sweetwater Music Hall\nFit
 z Albert Cotterell aka Prezident Brown was born in Johnny’s Hill d
 istrict on the Bullhead Mountain, Jamaica in the mid-1960’s and rai
 sed in Oracabessa, St Mary. He built up a reputation by performing on 
 local sound systems throughout the 1980’s, under various names inclu
 ding Junior Ranking, before starting his recording career in the late 
 1980’s. He was given the name Prezident Brown by producer and sound 
 system operator Jack Ruby, who made him the resident deejay on his Hi-
 Power sound system.    TO WINTICKETS SHare this event on social med
 ia (FB, Insta, X, etc.), comment below and email entry to: philran@com
 cast.net \n\n\n\n\n\n\nFor more information visit https://trueskool.c
 om/events/prezident-brown-with-dj-sep-all-ages-9pm-25
DTSTART;TZID=America/Los_Angeles:20240712T200000
DTEND;TZID=America/Los_Angeles:20240713T000000
CATEGORIES:mill, valley
LOCATION:Sweetwaterr Music Hall, Mill Valley, Ca.
WEBSITE:https://sweetwatermusichall.com/event/prezident-brown-with-dj-
 sep-2/sweetwater-music-hall/mill-valley-california/
URL:https://sweetwatermusichall.com/event/prezident-brown-with-dj-sep-
 2/sweetwater-music-hall/mill-valley-california/
CONTACT:415.388.3850
ORGANIZER;CN="Phillip Ranelli":https://trueskool.com/profile/PhillipRa
 nelli
ATTACH;FMTTYPE="image/jpeg":https://storage.ning.com/topology/rest/1.0
 /file/get/12665929059?profile=original
ATTENDEE;ROLE=REQ-PARTICIPANT;PARTSTAT=ACCEPTED;RSVP=TRUE;CN="Phillip 
 Ranelli":https://trueskool.com/profile/PhillipRanelli
END:VEVENT
END:VCALENDAR
