BEGIN:VCALENDAR
PRODID:NingEventWidget-v1
VERSION:2.0
METHOD:PUBLISH
BEGIN:VTIMEZONE
TZID:America/Los_Angeles
X-LIC-LOCATION:America/Los_Angeles
BEGIN:DAYLIGHT
TZOFFSETFROM:-0800
TZOFFSETTO:-0700
TZNAME:PDT
DTSTART:19700308T020000
RRULE:FREQ=YEARLY;BYMONTH=3;BYDAY=2SU
END:DAYLIGHT
BEGIN:STANDARD
TZOFFSETFROM:-0700
TZOFFSETTO:-0800
TZNAME:PST
DTSTART:19701101T020000
RRULE:FREQ=YEARLY;BYMONTH=11;BYDAY=1SU
END:STANDARD
END:VTIMEZONE
BEGIN:VEVENT
UID:1464587:Event:249281
DTSTAMP:20260421T051510Z
SUMMARY:Pretty Lights  (WIN TICKETS)
DESCRIPTION:  Friday-Saturday, November 29-30 Two Nights! Analog Futur
 e Tour 2013 Pretty Lights with full live band Tycho The Grouch & Eligh
  Odesza\nBill Graham Civic Auditorium San Francisco, CA  Show 7:00PM P
 urchase tickets\n\nFor more information visit https://trueskool.com/ev
 ents/pretty-lights-w-tycho-the-grouch-eligh-odesza-win-tickets
DTSTART;TZID=America/Los_Angeles:20131129T190000
DTEND;TZID=America/Los_Angeles:20131130T230000
CATEGORIES:"bay area", "san francisco"
LOCATION:Bill Graham Civic Auditorium, San Francisco
WEBSITE:http://www.ticketmaster.com/promo/6lz6kd?brand=anotherplanet&c
 amefrom=CFC_ANOTHERPLANET
URL:http://www.ticketmaster.com/promo/6lz6kd?brand=anotherplanet&camef
 rom=CFC_ANOTHERPLANET
CONTACT:
ORGANIZER:Another Planet Ent
ATTACH;FMTTYPE="image/jpeg":http://storage.ning.com/topology/rest/1.0/
 file/get/2247951218?profile=original
ATTENDEE;ROLE=REQ-PARTICIPANT;PARTSTAT=ACCEPTED;RSVP=TRUE;CN="James Vl
 iet":https://trueskool.com/profile/JamesVliet
ATTENDEE;ROLE=REQ-PARTICIPANT;PARTSTAT=ACCEPTED;RSVP=TRUE;CN="Jonathan
  Ridley":https://trueskool.com/profile/JonathanRidley
ATTENDEE;ROLE=REQ-PARTICIPANT;PARTSTAT=ACCEPTED;RSVP=TRUE;CN="Gideon R
 ector":https://trueskool.com/profile/GideonRector
ATTENDEE;ROLE=REQ-PARTICIPANT;PARTSTAT=ACCEPTED;RSVP=TRUE;CN="Peter Ba
 rnes":https://trueskool.com/profile/PeterBarnes
ATTENDEE;ROLE=REQ-PARTICIPANT;PARTSTAT=ACCEPTED;RSVP=TRUE;CN="Hillary 
 Jones":https://trueskool.com/profile/HillaryJones
ATTENDEE;ROLE=REQ-PARTICIPANT;PARTSTAT=ACCEPTED;RSVP=TRUE;CN="Brianna 
 M. Sylvers":https://trueskool.com/profile/BriannaMSylvers
ATTENDEE;ROLE=REQ-PARTICIPANT;PARTSTAT=ACCEPTED;RSVP=TRUE;CN="Neil Pea
 rson":https://trueskool.com/profile/NeilPearson
ATTENDEE;ROLE=REQ-PARTICIPANT;PARTSTAT=ACCEPTED;RSVP=TRUE;CN="Victoria
  S":https://trueskool.com/profile/VictoriaS
ATTENDEE;ROLE=REQ-PARTICIPANT;PARTSTAT=ACCEPTED;RSVP=TRUE;CN=Vee:https
 ://trueskool.com/profile/Vee
ATTENDEE;ROLE=REQ-PARTICIPANT;PARTSTAT=ACCEPTED;RSVP=TRUE;CN=Zmotiv:ht
 tps://trueskool.com/profile/Zmotiv
ATTENDEE;ROLE=REQ-PARTICIPANT;PARTSTAT=ACCEPTED;RSVP=TRUE;CN=Melissa:h
 ttps://trueskool.com/profile/Melissa
ATTENDEE;ROLE=REQ-PARTICIPANT;PARTSTAT=ACCEPTED;RSVP=TRUE;CN="Huy Hoan
 g":https://trueskool.com/profile/HuyHoang
ATTENDEE;ROLE=REQ-PARTICIPANT;PARTSTAT=ACCEPTED;RSVP=TRUE;CN="Katja Ja
 ":https://trueskool.com/profile/KatjaJa
ATTENDEE;ROLE=REQ-PARTICIPANT;PARTSTAT=ACCEPTED;RSVP=TRUE;CN=zoe:https
 ://trueskool.com/profile/zoe
ATTENDEE;ROLE=REQ-PARTICIPANT;PARTSTAT=ACCEPTED;RSVP=TRUE;CN="Mike Bis
 hop":https://trueskool.com/profile/MikeBishop
ATTENDEE;ROLE=REQ-PARTICIPANT;PARTSTAT=ACCEPTED;RSVP=TRUE;CN="Jacqueli
 ne Hsiang":https://trueskool.com/profile/JacquelineHsiang
ATTENDEE;ROLE=REQ-PARTICIPANT;PARTSTAT=ACCEPTED;RSVP=TRUE;CN="Mark Hog
 enson":https://trueskool.com/profile/MarkHogenson
ATTENDEE;ROLE=REQ-PARTICIPANT;PARTSTAT=ACCEPTED;RSVP=TRUE;CN="Alaina S
 ules":https://trueskool.com/profile/AlainaSules
ATTENDEE;ROLE=REQ-PARTICIPANT;PARTSTAT=ACCEPTED;RSVP=TRUE;CN="Jolene F
 rench":https://trueskool.com/profile/JoleneFrench
ATTENDEE;ROLE=REQ-PARTICIPANT;PARTSTAT=ACCEPTED;RSVP=TRUE;CN="Kimon Fl
 anagan":https://trueskool.com/profile/KimonFlanagan
ATTENDEE;ROLE=REQ-PARTICIPANT;PARTSTAT=ACCEPTED;RSVP=TRUE;CN=n8thegr8r
 :https://trueskool.com/profile/n8thegr8r
ATTENDEE;ROLE=REQ-PARTICIPANT;PARTSTAT=ACCEPTED;RSVP=TRUE;CN="Atiya Si
 mon":https://trueskool.com/profile/AtiyaSimon
ATTENDEE;ROLE=REQ-PARTICIPANT;PARTSTAT=ACCEPTED;RSVP=TRUE;CN="Elisa Bj
 eldanes":https://trueskool.com/profile/ElisaBjeldanes
ATTENDEE;ROLE=REQ-PARTICIPANT;PARTSTAT=ACCEPTED;RSVP=TRUE;CN="Matt Big
 gers":https://trueskool.com/profile/MattBiggers
ATTENDEE;ROLE=REQ-PARTICIPANT;PARTSTAT=ACCEPTED;RSVP=TRUE;CN=DeAndra:h
 ttps://trueskool.com/profile/DeAndra
ATTENDEE;ROLE=REQ-PARTICIPANT;PARTSTAT=ACCEPTED;RSVP=TRUE;CN="Holly Dr
 iscoll":https://trueskool.com/profile/HollyDriscoll
ATTENDEE;ROLE=REQ-PARTICIPANT;PARTSTAT=ACCEPTED;RSVP=TRUE;CN="Nancy La
 ws":https://trueskool.com/profile/NancyLaws
ATTENDEE;ROLE=REQ-PARTICIPANT;PARTSTAT=ACCEPTED;RSVP=TRUE;CN="Jessica 
 Barua":https://trueskool.com/profile/JessicaBarua
ATTENDEE;ROLE=REQ-PARTICIPANT;PARTSTAT=ACCEPTED;RSVP=TRUE;CN=RCD2:http
 s://trueskool.com/profile/Rcd2
ATTENDEE;ROLE=REQ-PARTICIPANT;PARTSTAT=ACCEPTED;RSVP=TRUE;CN="Carolina
  Quijano":https://trueskool.com/profile/CarolinaQuijano
ATTENDEE;ROLE=REQ-PARTICIPANT;PARTSTAT=ACCEPTED;RSVP=TRUE;CN=Ro:https:
 //trueskool.com/profile/Ro
ATTENDEE;ROLE=REQ-PARTICIPANT;PARTSTAT=ACCEPTED;RSVP=TRUE;CN="Frank Vi
 loria":https://trueskool.com/profile/DJILLusive
ATTENDEE;ROLE=REQ-PARTICIPANT;PARTSTAT=ACCEPTED;RSVP=TRUE;CN="Laneisha
  Whitfield":https://trueskool.com/profile/LaneishaWhitfield
ATTENDEE;ROLE=REQ-PARTICIPANT;PARTSTAT=ACCEPTED;RSVP=TRUE;CN="Jon Schr
 oeder":https://trueskool.com/profile/JonSchroeder
ATTENDEE;ROLE=REQ-PARTICIPANT;PARTSTAT=ACCEPTED;RSVP=TRUE;CN="Emo Reyn
 a":https://trueskool.com/profile/EmoReyna
ATTENDEE;ROLE=REQ-PARTICIPANT;PARTSTAT=ACCEPTED;RSVP=TRUE;CN=smurf:htt
 ps://trueskool.com/profile/smurf
ATTENDEE;ROLE=REQ-PARTICIPANT;PARTSTAT=ACCEPTED;RSVP=TRUE;CN="Joseph K
 im":https://trueskool.com/profile/JosephKim
ATTENDEE;ROLE=REQ-PARTICIPANT;PARTSTAT=ACCEPTED;RSVP=TRUE;CN="Staff Pi
 ck":https://trueskool.com/profile/Ren
ATTENDEE;ROLE=REQ-PARTICIPANT;PARTSTAT=TENTATIVE;RSVP=TRUE;CN="Joanna 
 Arellano":https://trueskool.com/profile/JoannaArellano
END:VEVENT
END:VCALENDAR
