BEGIN:VCALENDAR
PRODID:NingEventWidget-v1
VERSION:2.0
METHOD:PUBLISH
BEGIN:VTIMEZONE
TZID:America/Los_Angeles
X-LIC-LOCATION:America/Los_Angeles
BEGIN:DAYLIGHT
TZOFFSETFROM:-0800
TZOFFSETTO:-0700
TZNAME:PDT
DTSTART:19700308T020000
RRULE:FREQ=YEARLY;BYMONTH=3;BYDAY=2SU
END:DAYLIGHT
BEGIN:STANDARD
TZOFFSETFROM:-0700
TZOFFSETTO:-0800
TZNAME:PST
DTSTART:19701101T020000
RRULE:FREQ=YEARLY;BYMONTH=11;BYDAY=1SU
END:STANDARD
END:VTIMEZONE
BEGIN:VEVENT
UID:1464587:Event:42027
DTSTAMP:20260421T052041Z
SUMMARY:Pressure Drop! At The Missouri Lounge This Thursday 10/22
DESCRIPTION:\nThe 100% vintage sound of Young Jamaica Thursday 10/22 a
 t The Missouri Lounge\nEarly Reggae, Ska, Rocksteady vinyl classics, r
 arities & anthems!\nSan Francisco Vintage Reggae Society\n\nFor more i
 nformation visit https://trueskool.com/events/pressure-drop-at-the-mis
 souri-1
DTSTART;TZID=America/Los_Angeles:20091022T220000
DTEND;TZID=America/Los_Angeles:20091023T020000
CATEGORIES:reggae, roots, ska, vinyl, rocksteady, "45's", rare
LOCATION:The Missouri Lounge, Berkeley, CA
WEBSITE:http://www.themissourilounge.com/
URL:http://www.themissourilounge.com/
CONTACT:
ORGANIZER;CN="SF Vintage Reggae Society":https://trueskool.com/profile
 /SFVintageReggaeSociety
ATTACH;FMTTYPE="image/jpeg":http://storage.ning.com/topology/rest/1.0/
 file/get/2247868873?profile=original
ATTENDEE;ROLE=REQ-PARTICIPANT;PARTSTAT=ACCEPTED;RSVP=TRUE;CN="SF Vinta
 ge Reggae Society":https://trueskool.com/profile/SFVintageReggaeSociet
 y
END:VEVENT
END:VCALENDAR
