BEGIN:VCALENDAR
PRODID:NingEventWidget-v1
VERSION:2.0
METHOD:PUBLISH
BEGIN:VTIMEZONE
TZID:America/Los_Angeles
X-LIC-LOCATION:America/Los_Angeles
BEGIN:DAYLIGHT
TZOFFSETFROM:-0800
TZOFFSETTO:-0700
TZNAME:PDT
DTSTART:19700308T020000
RRULE:FREQ=YEARLY;BYMONTH=3;BYDAY=2SU
END:DAYLIGHT
BEGIN:STANDARD
TZOFFSETFROM:-0700
TZOFFSETTO:-0800
TZNAME:PST
DTSTART:19701101T020000
RRULE:FREQ=YEARLY;BYMONTH=11;BYDAY=1SU
END:STANDARD
END:VTIMEZONE
BEGIN:VEVENT
UID:1464587:Event:667952
DTSTAMP:20260422T033049Z
SUMMARY:PRECITA EYES MURALISTS 40th anniversary gala
DESCRIPTION:PRECITA EYES MURALISTS celebrate \"Four Decades of Collabo
 rative Art: Celebrating Creativity in the Community\" \nAn evening o
 f art, music, food, and magic marking our 40th anniversary \n6pm VIP 
 Artist Reception  Mingle with Precita Eyes artists and members of SF'
 s mural arts community   7pm-10pm Buffet by La Cocina \nArt Auction
  including works by: Juana Alicia, Fred Alvarado, Miranda Bergman, 
 Chor Boogie, Edythe Boone, Suaro Cervantes, Susan Kelk Cervantes, 
 Elaine Chu, Meera Desai, Max Erhman, Jeremy Fish, Francisco Franco
 , Brian Goggin, Priya Handa, Paul Kensinger, Eli Lippert, Amanda L
 ynn, Max Marttila, Eric Norberg, Sirron Norris, Yuka Ezoe Onodera,
  Irene Perez, Marina Perez-Wong, Patricia Rose, Henry Sultan, Mel
  Waters.\n Performances by:  Matthew Holtzman; Bruno Pelletier-Bacqu
 aert Jazz Quartet; Bare Bones Butoh; Banda Sin Nombre and DJ Davi
 d Patrelli. MC'd by Bianca Starr\n\nFor more information visit https:/
 /trueskool.com/events/precita-eyes-muralists-40th-anniversary-gala
DTSTART;TZID=America/Los_Angeles:20170930T180000
DTEND;TZID=America/Los_Angeles:20170930T220000
CATEGORIES:"san francisco"
LOCATION:Git Hub (San Francisco)
WEBSITE:https://www.eventbrite.com/e/precita-eyes-muralists-40th-anniv
 ersary-gala-four-decades-of-collaborative-art-tickets-35900966758?aff=
 es2
URL:https://www.eventbrite.com/e/precita-eyes-muralists-40th-anniversa
 ry-gala-four-decades-of-collaborative-art-tickets-35900966758?aff=es2
CONTACT:4152852287
ORGANIZER;CN="Precita Eyes Muralists":https://trueskool.com/profile/Pr
 ecitaEyesMuralists
ATTACH;FMTTYPE="image/jpeg":http://storage.ning.com/topology/rest/1.0/
 file/get/2248001660?profile=original
ATTENDEE;ROLE=REQ-PARTICIPANT;PARTSTAT=ACCEPTED;RSVP=TRUE;CN="Precita 
 Eyes Muralists":https://trueskool.com/profile/PrecitaEyesMuralists
END:VEVENT
END:VCALENDAR
