BEGIN:VCALENDAR
PRODID:NingEventWidget-v1
VERSION:2.0
METHOD:PUBLISH
BEGIN:VTIMEZONE
TZID:America/Los_Angeles
X-LIC-LOCATION:America/Los_Angeles
BEGIN:DAYLIGHT
TZOFFSETFROM:-0800
TZOFFSETTO:-0700
TZNAME:PDT
DTSTART:19700308T020000
RRULE:FREQ=YEARLY;BYMONTH=3;BYDAY=2SU
END:DAYLIGHT
BEGIN:STANDARD
TZOFFSETFROM:-0700
TZOFFSETTO:-0800
TZNAME:PST
DTSTART:19701101T020000
RRULE:FREQ=YEARLY;BYMONTH=11;BYDAY=1SU
END:STANDARD
END:VTIMEZONE
BEGIN:VEVENT
UID:1464587:Event:289427
DTSTAMP:20260421T021317Z
SUMMARY:Pre New Year's Eve Dance| Hosted by Snoop Dogg |Sunday Decembe
 r 29 @ Cameo
DESCRIPTION:Pre New Year's Dance\n\nSunday, December 29th\n@ \n\n \n
 SNOOP DOGG \nLive on the 1's & 2's \nTickets on Sale NOW! \n$30 Gen
 eral Admission \n$60 VIP Admission \n \nMusic by: Fergie & Springer
  \n\n\n\nFor more information visit https://trueskool.com/events/pre-
 new-year-s-eve-dance-hosted-by-snoop-dogg-sunday-december-29
DTSTART;TZID=America/Los_Angeles:20131229T230000
DTEND;TZID=America/Los_Angeles:20131230T030000
CATEGORIES:miami, beach
LOCATION:Cameo, Miami Beach
WEBSITE:
URL:
CONTACT:3054389488
ORGANIZER;CN="Rockers Island":https://trueskool.com/profile/RockersIsl
 and
ATTACH;FMTTYPE="image/jpeg":http://storage.ning.com/topology/rest/1.0/
 file/get/2247956873?profile=original
ATTENDEE;ROLE=REQ-PARTICIPANT;PARTSTAT=ACCEPTED;RSVP=TRUE;CN="Rockers 
 Island":https://trueskool.com/profile/RockersIsland
END:VEVENT
END:VCALENDAR
