BEGIN:VCALENDAR
PRODID:NingEventWidget-v1
VERSION:2.0
METHOD:PUBLISH
BEGIN:VTIMEZONE
TZID:America/Los_Angeles
X-LIC-LOCATION:America/Los_Angeles
BEGIN:DAYLIGHT
TZOFFSETFROM:-0800
TZOFFSETTO:-0700
TZNAME:PDT
DTSTART:19700308T020000
RRULE:FREQ=YEARLY;BYMONTH=3;BYDAY=2SU
END:DAYLIGHT
BEGIN:STANDARD
TZOFFSETFROM:-0700
TZOFFSETTO:-0800
TZNAME:PST
DTSTART:19701101T020000
RRULE:FREQ=YEARLY;BYMONTH=11;BYDAY=1SU
END:STANDARD
END:VTIMEZONE
BEGIN:VEVENT
UID:1464587:Event:650830
DTSTAMP:20260421T192611Z
SUMMARY:Pouya
DESCRIPTION:\n Thurs. June 23   Pouya  Fat Nick Dahn Farro\n\n@ Slim'
 s, 333 11th St., San Francisco\n9pm. All Ages Tickets are $21 advance/
 $26 door\n>> BUY TICKETS\n\n Born and bred in Miami, Florida, Kevin Po
 uya certainly does not look the part of your everyday rapper; but litt
 le be known, is he not just some wannabe who spends his time passing o
 ut his totally lit, extremely fire mix tape outside of McDonalds. Sinc
 e discovering his artistic capabilities at the adolescent age of 17, P
 ouya has divulged four mix tapes as well as his debut full-length albu
 m Underground Underdog, which was released late April 2016 and reached
  #2 on the iTunes Top Hip Hop Albums chart sitting right behind Drake.
  Pouya’s UU brings forth an intricately crafted, malleable voice tha
 t will span multiple musical territories over the years to come. Follo
 wing an immensely successful spring tour, Pouya was accompanied alongs
 ide $Uicideboy$, not to mention he dropped a new EP for free download 
 entitled South Side Suicide.\nOver the course of this past year, Pouya
  has been hard at work bangin’ out fresh beats and collaborating wit
 h artists like Getter, Fat Nick, Ying Yang Twins, and many more. His a
 ge may appear deceiving, but this kid spits straight 90s hip-hop and M
 emphis fire, ruling the reigning mayhem that Pouya is just getting sta
 rted. Amidst Pouya’s multi-faceted rap skills, he is one of those ar
 tists who completely let’s his personality shine through, solidifyin
 g any Pouya show as a divergence from an atypical hip-hop/rap show. Fr
 om here on now out, get ready to hear a lot more of brand new Pouya as
  the Miami-native preps to take the country by storm. Pouya is destine
 d to be a defining catalyst in engineering a concrete path where hip-h
 op, rap, and electronic music can sustain their newfound ability to co
 exist in the world of ultramodern music – no matter which multifario
 us genre you come from.\n\nFor more information visit https://trueskoo
 l.com/events/pouya
DTSTART;TZID=America/Los_Angeles:20160616T180000
DTEND;TZID=America/Los_Angeles:20160616T190000
CATEGORIES:"bay area", "san francisco"
LOCATION:Slim's, San Francisco
WEBSITE:http://www.slimspresents.com/event/pouya-slims-w-fat-nick/
URL:http://www.slimspresents.com/event/pouya-slims-w-fat-nick/
CONTACT:
ORGANIZER:Slim's
ATTACH;FMTTYPE="image/jpeg":http://storage.ning.com/topology/rest/1.0/
 file/get/2247989351?profile=original
ATTENDEE;ROLE=REQ-PARTICIPANT;PARTSTAT=ACCEPTED;RSVP=TRUE;CN="Editor's
  Pick":https://trueskool.com/profile/RentheVinylArchaeologist
END:VEVENT
END:VCALENDAR
