BEGIN:VCALENDAR
PRODID:NingEventWidget-v1
VERSION:2.0
METHOD:PUBLISH
BEGIN:VTIMEZONE
TZID:America/Los_Angeles
X-LIC-LOCATION:America/Los_Angeles
BEGIN:DAYLIGHT
TZOFFSETFROM:-0800
TZOFFSETTO:-0700
TZNAME:PDT
DTSTART:19700308T020000
RRULE:FREQ=YEARLY;BYMONTH=3;BYDAY=2SU
END:DAYLIGHT
BEGIN:STANDARD
TZOFFSETFROM:-0700
TZOFFSETTO:-0800
TZNAME:PST
DTSTART:19701101T020000
RRULE:FREQ=YEARLY;BYMONTH=11;BYDAY=1SU
END:STANDARD
END:VTIMEZONE
BEGIN:VEVENT
UID:1464587:Event:449563
DTSTAMP:20260421T030618Z
SUMMARY:POPGANG PRESENTS: COCONUT JACUZZI WITH BEDROCK
DESCRIPTION:Popgang is Back with their New Monthly Party Coconut Jacuz
 zi. Saturday, October 25th, 2014, at F8 (1192 Folsom) they are partyin
 g hard with a special Halloween edition. This Months Headliner, BEDROC
 KK, is a recent SF transplant via Denver with a knack for blending Hip
 -hop and Future-bass in a cauldron of RnB styled vibes. BEDROCKK will 
 be Rockkin' out along with the of usual suspects of the POPGANG Roster
  plus special guest appearances and festivities.  Line Up: BEDROCKK (D
 irty//Clean) https://soundcloud.com/bedrockk  MANICS (DJ set) www.soun
 dcloud.com/manics  MARCELLUS https://soundcloud.com/marcellusholmes  T
 ENDERLIONS https://soundcloud.com/tenderlions  NITEPPL https://soundcl
 oud.com/niteppl  Backroom: Pilotek  (http://www.mixcloud.com/pilotek/)
  Sebastian Rodriguez  (http://www.mixcloud.com/Sebastian3000) Johnny S
 tress  (https://soundcloud.com/johnnystress)  Free before 10:30 with R
 SVP at www.popgangcoco.eventbrite.com\n\nFor more information visit ht
 tps://trueskool.com/events/popgang-presents-coconut-jacuzzi-with-bedro
 ck
DTSTART;TZID=America/Los_Angeles:20141025T210000
DTEND;TZID=America/Los_Angeles:20141026T030000
CATEGORIES:san, francisco, california
LOCATION:California
WEBSITE:http://www.popgangcoco.eventbrite.com
URL:http://www.popgangcoco.eventbrite.com
CONTACT:
ORGANIZER;CN="Makaela Susnow":https://trueskool.com/profile/MakaelaSus
 now
ATTACH;FMTTYPE="image/jpeg":http://storage.ning.com/topology/rest/1.0/
 file/get/2247969846?profile=original
ATTENDEE;ROLE=REQ-PARTICIPANT;PARTSTAT=ACCEPTED;RSVP=TRUE;CN="Makaela 
 Susnow":https://trueskool.com/profile/MakaelaSusnow
END:VEVENT
END:VCALENDAR
