BEGIN:VCALENDAR
PRODID:NingEventWidget-v1
VERSION:2.0
METHOD:PUBLISH
BEGIN:VTIMEZONE
TZID:America/Los_Angeles
X-LIC-LOCATION:America/Los_Angeles
BEGIN:DAYLIGHT
TZOFFSETFROM:-0800
TZOFFSETTO:-0700
TZNAME:PDT
DTSTART:19700308T020000
RRULE:FREQ=YEARLY;BYMONTH=3;BYDAY=2SU
END:DAYLIGHT
BEGIN:STANDARD
TZOFFSETFROM:-0700
TZOFFSETTO:-0800
TZNAME:PST
DTSTART:19701101T020000
RRULE:FREQ=YEARLY;BYMONTH=11;BYDAY=1SU
END:STANDARD
END:VTIMEZONE
BEGIN:VEVENT
UID:1464587:Event:51917
DTSTAMP:20260421T000320Z
SUMMARY:PON DI FLOOR!
DESCRIPTION:\n:: SATURDAY, APRIL 17TH ::\nFever SF requires you to get
  your ass PON DI FLOOR!!!!!!!\n\n4 of San Francisco's finest will be g
 iving you that raw uncut\nGHETTO HOUSE - ELECTRO - MIAMI BASS - BALTIM
 ORE CLUB - DANCEHALL - CRUNK - DUBSTEP - BAILE FUNK...all things BOOTY
 . We finna go all in and TURN THAT ASS OUT TIL 4AM!\n\nAn it goes a li
 ttle somethin like this:\n\nJUSTIN TIME\nwill be playing an ALL VINYL 
 set of Miami Bass, 808 electro, and throwbacks you forgot you loved.\n
 \nSHANE KING\nhas such retarded taste in music I won't even bother to 
 classify where he'll be taking you (other than the floor)\n\nCOOP D'VI
 LLE\nis a bad motherfucker who comes from Miami and will surely disapp
 oint fans of soft, boring ass music.\n\nDJ THEORY\nwill be hollering b
 ack and bringin the ruckus\n\nbasically, it's going the fuck down.\n\n
 SATURDAY, APRIL 17TH\n@ PARADISE LOUNGE\n1501 Folsom St @ 11th\nhttp:/
 /www.paradisesf.com\n\n((( 10pm - 4am )))\n\n21+ w/ ID\n$10 at the doo
 r, $5 before 11\nLADIES FREE BEFORE 11\n\n$6 RED BULL & SVEDKA'S ALL N
 IGHT!\nor try $100 BOTTLES OF SVEDKA W/ 6 RED BULLS, no table reservat
 ions needed just cop @ the bar and go nuttz!\n$3 PBR's all night as we
 ll\n\nother than that expect\n-BIG SOUND AND LIGHTING\n-LIVE DANCERS\n
 -NO DRESS CODE\n\nIf you plan on bringing a gang of fools (i.e. LADIES
 ) let us know so we can work you a deal... hit up feversfevents@gmail.
 com\n\nwe look forward to seeing all of you fine people PON DI FLOOR!!
 !!!!!!!!!!!!!!!!!!!!\n\nRSVP ON FACEBOOK: http://www.facebook.com/even
 t.php?eid=375334267549\n\nFor more information visit https://trueskool
 .com/events/pon-di-floor
DTSTART;TZID=America/Los_Angeles:20100417T220000
DTEND;TZID=America/Los_Angeles:20100418T040000
CATEGORIES:booty, bass, club, dance, electro, old, school
LOCATION:Paradise Lounge, San Francisco CA
WEBSITE:http://www.paradisesf.com
URL:http://www.paradisesf.com
CONTACT:
ORGANIZER:Fever SF
ATTACH;FMTTYPE="image/jpeg":http://storage.ning.com/topology/rest/1.0/
 file/get/2247875263?profile=original
ATTENDEE;ROLE=REQ-PARTICIPANT;PARTSTAT=ACCEPTED;RSVP=TRUE;CN="Deejay T
 heory":https://trueskool.com/profile/DJTheory
END:VEVENT
END:VCALENDAR
