BEGIN:VCALENDAR
PRODID:NingEventWidget-v1
VERSION:2.0
METHOD:PUBLISH
BEGIN:VTIMEZONE
TZID:America/Los_Angeles
X-LIC-LOCATION:America/Los_Angeles
BEGIN:DAYLIGHT
TZOFFSETFROM:-0800
TZOFFSETTO:-0700
TZNAME:PDT
DTSTART:19700308T020000
RRULE:FREQ=YEARLY;BYMONTH=3;BYDAY=2SU
END:DAYLIGHT
BEGIN:STANDARD
TZOFFSETFROM:-0700
TZOFFSETTO:-0800
TZNAME:PST
DTSTART:19701101T020000
RRULE:FREQ=YEARLY;BYMONTH=11;BYDAY=1SU
END:STANDARD
END:VTIMEZONE
BEGIN:VEVENT
UID:1464587:Event:30608
DTSTAMP:20260420T195704Z
SUMMARY:POMO 2009
DESCRIPTION:Kularts Presents POMO 2009: Post Modern American Pilipino 
 Performance Project\n\nAdmission: $15 Advance, $14 Students, $20 Gener
 al\nTickets: http://www.brownpapertickets.com/event/56341\n\nGet your 
 DISCOUNTED POMO 2009 Multi-Show Pass at\nhttp://brownpapertickets.com/
 event/63259\n\n2 shows for $25 ($5 Savings)!\n3 shows for $35 ($10 Sav
 ings)!\nOffer Valid for ONLINE advance purchases only!\n\nFriday, Apri
 l 17, 8pm\nZeum Theater\n221 Fourth Street @ Howard St\nSan Francisco 
 CA 94103\n\nFeaturing:\nDwayne Calizo\nKennedy Kabasares\nGiovanni Ort
 ega\n\nSat, Apr 18, 8pm\nSun, Apr 19, 6pm\nBayanihan Community Center\
 n1010 Mission St. @ 6th St. SF CA 94103\n\nFeaturing:\nDwayne Calizo\n
 Giovanni Ortega\nJen & Dan Soriano\n\nSat, Apr 25, 8pm\nSun, Apr 26, 6
 pm\nBayanihan Community Center\n1010 Mission St. @ 6th St. SF CA 94103
 \n\nFeaturing:\nDwayne Calizo\nGiovanni Ortega\nDiskarte Namin\n\nQuee
 r Performance Vocalist, Dwayne Calizo presents The Toxic Cock-tale: Ho
 ld the Retro Virus Please!! The show takes place in real time during t
 he last hour, last act, and closing night of The World Famous Back All
 ey Sally's Catch a Rising Star No Talent-Talent Show. The final perfor
 mance is ready to begin so get ready for a ride that will bring you to
  your knees begging for mercy and wanting more, more, more.\n\nAeriali
 st Kennedy Kabasares combines theater, static trapeze, movement and mo
 nologue with writer/performer Traci Kato-Kiriyama to explore ideas of 
 regret, dreams, sounds, silence, stillness, and the precariousness of 
 being on the edge.\n\nGiovanni Ortega presents Kalayaan (Freedom), a p
 oignantly hilarious inter-disciplinary show that fearlessly embraces w
 hile courageously reveals one man’s identity as a queer Muslim Pilip
 ino in America. Infusing Modern and Mindanao Folk Dance, he reflects o
 n his past and acceptance of Islam.\n\nJen & Dan Soriano present Viaje
 ras: A Song Cycle in Tribute to Filipino Overseas Musicians a journey 
 through seven decades of musical migration. Since the late 1800’s, F
 ilipinos have made a living from their musical abilities by performing
  at hotels and clubs around the world. Today, musicians and other perf
 orming artists are the Philippines’ second largest export after dome
 stic workers; more than one million Filipinos work overseas as musicia
 ns, composers, and dancers. Viajeras traces the journeys of these Fili
 pino workers, from the jazz age of the 1920s to the pop age of the 198
 0s.With a combination of jazz standards, pop covers, and original song
 s, Viajeras is a tribute to the these musicians past and present, incl
 uding Jen’s grandfather, Restituto Soriano, a musician who played on
  cruise ships and with Xavier Cugat’s orchestra in the 1930s 40s. Vi
 ajeras celebrates the heroism of these musicians who have survived in 
 a market of western mimicry, while envisioning a future that values or
 iginal Filipino creation. Featuring Juan Calaf (drums) and Ron Quesada
  (bass guitar).\n\nStraight from the underground arises Diskarte Namin
  (“our strategy” in Tagalog) – kultural guerillas using music as
  a weapon to reclaim Filipino pride, and to declare that even after 40
 0 years of colonization – we are still here. San Francisco born but 
 bred on resistance music from all over the world, Diskarte mixes rock 
 guitar with latin and hip hop beats, reggae and funk basslines, folk a
 nd soul vocals, and indigenous influences from the Philippines. Since 
 2000, Diskarte Namin has rocked shows from the Bay to LA to Seattle to
  the mountains of the Northern Philippines, devoting most of their per
 formances to community events, social justice fundraisers, and politic
 al rallies.\n\nDiskarte Namin is: Jen Soriano on vocals, Paul Bolick-M
 ausisa on bass and guitar, Jasen Ildefonzo on vocals and rhythm guitar
 , Tony Daquipa on percussion, Juan Calaf on lead guitar, Dakota Witka 
 on percussion, and Mike Cual as emcee.\n\nFor more information visit h
 ttps://trueskool.com/events/pomo-2009
DTSTART;TZID=America/Los_Angeles:20090417T200000
DTEND;TZID=America/Los_Angeles:20090426T180000
CATEGORIES:performance, filipino, theater, music, poetics, aerial, dan
 ce
LOCATION:Zeum Theater (4/17 only) and Bayanihan Community Center
WEBSITE:http://kularts.org/calendar.php
URL:http://kularts.org/calendar.php
CONTACT:415-239-0249
ORGANIZER;CN=Kularts:https://trueskool.com/profile/Kularts
ATTACH;FMTTYPE="image/jpeg":http://storage.ning.com/topology/rest/1.0/
 file/get/2247856457?profile=original
ATTENDEE;ROLE=REQ-PARTICIPANT;PARTSTAT=ACCEPTED;RSVP=TRUE;CN=Kularts:h
 ttps://trueskool.com/profile/Kularts
END:VEVENT
END:VCALENDAR
